BEGIN:VCALENDAR
VERSION:2.0
PRODID:-//ChamberMaster//Event Calendar 2.0//EN
METHOD:PUBLISH
X-PUBLISHED-TTL:P3D
REFRESH-INTERVAL:P3D
CALSCALE:GREGORIAN
BEGIN:VEVENT
DTSTART:20210924T133000Z
DTEND:20210924T150000Z
X-MICROSOFT-CDO-ALLDAYEVENT:FALSE
SUMMARY:CHAMBER 101
DESCRIPTION:The East End Chamber wants to help you grow your business!\n\n\n\nJoin us for Chamber 101 on Friday\, Sept 24 8:30-10:00am and learn how to utilize your membership to its fullest potential. Learn about all of your member benefits and how your membership can help you:\n\n\n\n* Increase business profits\n\n* Reach new customers\n\n* Promote your business or brand\n\n* Network with exclusive EECOC partners\n\n\n\nIn addition to member details\, we will also discuss new EECOC initiatives and updates.\n\nAttendees will learn...\n\n\n	How the Chamber can support your WHY reason for joining\n	What your benefits are as a member\n	When you can grow your network\n	Where you can post your organization promotional information \n	How you can maximize your partnership\n\n\nSave your seat TODAY!\n\n\n\nFor more information please contact Diana Trevino at 713.926.3305 or diana@eecoc.org
X-ALT-DESC;FMTTYPE=text/html:<div style="color: rgb(21\, 27\, 38)\; white-space: pre-wrap\; text-size-adjust: auto\;">\n<div helvetica="" segoe=""><span style="font-size:14px\;"><span style="font-family:arial\;">The East End Chamber wants to help you grow your business!<br />\n<br />\n<span background-color:="" font-size:="" helvetica="" segoe="" style="color: rgb(21\, 27\, 38)\; font-family: -apple-system\, BlinkMacSystemFont\, " white-space:="">Join us for Chamber 101 on Friday\, Sept 24 8:30-10:00am and learn how to utilize your membership to its fullest potential. Learn about all of your member benefits and how your membership can help you:</span><br background-color:="" font-size:="" helvetica="" segoe="" style="color: rgb(21\, 27\, 38)\; font-family: -apple-system\, BlinkMacSystemFont\, " white-space:="" />\n<br background-color:="" font-size:="" helvetica="" segoe="" style="color: rgb(21\, 27\, 38)\; font-family: -apple-system\, BlinkMacSystemFont\, " white-space:="" />\n<span background-color:="" font-size:="" helvetica="" segoe="" style="color: rgb(21\, 27\, 38)\; font-family: -apple-system\, BlinkMacSystemFont\, " white-space:="">* Increase business profits</span><br background-color:="" font-size:="" helvetica="" segoe="" style="color: rgb(21\, 27\, 38)\; font-family: -apple-system\, BlinkMacSystemFont\, " white-space:="" />\n<span background-color:="" font-size:="" helvetica="" segoe="" style="color: rgb(21\, 27\, 38)\; font-family: -apple-system\, BlinkMacSystemFont\, " white-space:="">* Reach new customers</span><br background-color:="" font-size:="" helvetica="" segoe="" style="color: rgb(21\, 27\, 38)\; font-family: -apple-system\, BlinkMacSystemFont\, " white-space:="" />\n<span background-color:="" font-size:="" helvetica="" segoe="" style="color: rgb(21\, 27\, 38)\; font-family: -apple-system\, BlinkMacSystemFont\, " white-space:="">* Promote your business or brand</span><br background-color:="" font-size:="" helvetica="" segoe="" style="color: rgb(21\, 27\, 38)\; font-family: -apple-system\, BlinkMacSystemFont\, " white-space:="" />\n<span background-color:="" font-size:="" helvetica="" segoe="" style="color: rgb(21\, 27\, 38)\; font-family: -apple-system\, BlinkMacSystemFont\, " white-space:="">* Network with exclusive EECOC partners</span><br background-color:="" font-size:="" helvetica="" segoe="" style="color: rgb(21\, 27\, 38)\; font-family: -apple-system\, BlinkMacSystemFont\, " white-space:="" />\n<br background-color:="" font-size:="" helvetica="" segoe="" style="color: rgb(21\, 27\, 38)\; font-family: -apple-system\, BlinkMacSystemFont\, " white-space:="" />\n<span background-color:="" font-size:="" helvetica="" segoe="" style="color: rgb(21\, 27\, 38)\; font-family: -apple-system\, BlinkMacSystemFont\, " white-space:="">In addition to member details\, we will also discuss new EECOC initiatives and updates.</span></span></span></div>\n\n<div helvetica="" segoe=""><span style="font-size:14px\;"><span style="font-family:arial\;">Attendees will learn...</span></span></div>\n\n<ul>\n	<li style="color: rgb(51\, 51\, 51)\; background: white\;"><span style="font-size:14px\;"><span style="font-family:arial\;">How the Chamber can support your&nbsp\;<strong>WHY&nbsp\;</strong>reason for joining</span></span></li>\n	<li style="color: rgb(51\, 51\, 51)\; background: white\;"><span style="font-size:14px\;"><span style="font-family:arial\;"><strong>What&nbsp\;</strong>your benefits are as a member</span></span></li>\n	<li style="color: rgb(51\, 51\, 51)\; background: white\;"><span style="font-size:14px\;"><span style="font-family:arial\;"><strong>When</strong>&nbsp\;you can grow your network</span></span></li>\n	<li style="color: rgb(51\, 51\, 51)\; background: white\;"><span style="font-size:14px\;"><span style="font-family:arial\;"><strong>Where&nbsp\;</strong>you can post your organization promotional information&nbsp\;</span></span></li>\n	<li style="color: rgb(51\, 51\, 51)\; background: white\;"><span style="font-size:14px\;"><span style="font-family:arial\;"><strong>How&nbsp\;</strong>you can maximize your partnership</span></span></li>\n</ul>\n\n<div><span style="font-size:14px\;"><span style="font-family:arial\;"><span style="background-image: initial\; background-position: initial\; background-size: initial\; background-repeat: initial\; background-attachment: initial\; background-origin: initial\; background-clip: initial\;"><strong><span style="background-image: initial\; background-position: initial\; background-size: initial\; background-repeat: initial\; background-attachment: initial\; background-origin: initial\; background-clip: initial\;">Save your seat TODAY!</span></strong></span></span></span></div>\n\n<div helvetica="" segoe=""><br />\n<span style="font-size:14px\;"><span style="font-family:arial\;"><span style="color: rgb(21\, 27\, 38)\; white-space: pre-wrap\;">For more information please contact Diana Trevino at 713.926.3305 or </span><a class="textEditor-link" data-is-link="mailto:membership@eecoc.org" href="mailto:diana@eecoc.org" rel="noreferrer nofollow" style="color: rgb(20\, 170\, 245)\; cursor: pointer\; text-decoration-line: none\; background-color: transparent\;" target="_blank">diana@eecoc.org</a></span></span></div>\n</div>\n
LOCATION:East End Chamber Office 5311 Clinton Drive Houston\, TX 77020
UID:e.2026.5072250
SEQUENCE:3
DTSTAMP:20260422T162833Z
URL:http://houstoneastend.smartcms.site/events/details/chamber-101-5072250
END:VEVENT

END:VCALENDAR
