BEGIN:VCALENDAR
VERSION:2.0
PRODID:-//ChamberMaster//Event Calendar 2.0//EN
METHOD:PUBLISH
X-PUBLISHED-TTL:P3D
REFRESH-INTERVAL:P3D
CALSCALE:GREGORIAN
BEGIN:VEVENT
DTSTART:20180223T143000Z
DTEND:20180223T160000Z
X-MICROSOFT-CDO-ALLDAYEVENT:FALSE
SUMMARY:Business Over Breakfast
DESCRIPTION:p.p1 {margin: 0.0px 0.0px 0.0px 0.0px\; font: 11.0px Calibri}\np.p2 {margin: 0.0px 0.0px 0.0px 48.0px\; text-indent: -48.0px\; font: 11.0px Calibri}\nspan.s1 {font-kerning: none}\n\nTop Hidden Dangers in Employee Benefits\n\n \n\nAvoid 2018 Legal Pitfalls in 2018 in:\n\n  ERISA Law/Fines \n\n  Affordable Care Act\n\n  Compliance Issues\n\n  Healthcare \n\n  Continuation \n\n  FMLA\n\n \n\nHear from the Experts:\n\nSidney Lacey\, Lacey Newday\, LLC\, Principal/Director\n\nHoward Block\, Lacey Newday\, LLC\, Director Health and Welfare Benefits Solutions\n\n \n\nWho Should Attend?\n\n   Business Owners\n\n   H.R. Representatives\n\n   General Counsel\n\n   Anyone Concerned With Risks
X-ALT-DESC;FMTTYPE=text/html:<style type="text/css">p.p1 {margin: 0.0px 0.0px 0.0px 0.0px\; font: 11.0px Calibri}\np.p2 {margin: 0.0px 0.0px 0.0px 48.0px\; text-indent: -48.0px\; font: 11.0px Calibri}\nspan.s1 {font-kerning: none}\n</style>\n<p class="p1"><span style="font-size:24px\;"><strong><span class="s1">Top Hidden Dangers in Employee Benefits</span></strong></span></p>\n\n<p class="p1"><span class="s1">&nbsp\;</span></p>\n\n<p class="p1"><strong><span class="s1">Avoid 2018 Legal Pitfalls in 2018 in:</span></strong></p>\n\n<p class="p1"><span class="s1">&bull\;&nbsp\;ERISA&nbsp\;Law/Fines </span><br />\n<span style="font-family: Calibri\; font-size: 11px\; text-indent: -48px\;">&bull\;&nbsp\;</span><span class="s1">Affordable Care Act<br />\n&bull\;&nbsp\;Compliance Issues<br />\n&bull\;&nbsp\;Healthcare </span><br />\n<span style="font-family: Calibri\; font-size: 11px\; text-indent: -48px\;">&bull\;&nbsp\;</span><span class="s1">Continuation&nbsp\;</span><br />\n<span style="font-family: Calibri\; font-size: 11px\; text-indent: -48px\;">&bull\;&nbsp\;</span><span class="s1">FMLA</span></p>\n\n<p class="p2"><span class="s1">&nbsp\;</span></p>\n\n<p class="p2"><strong><span class="s1">Hear from the Experts:</span></strong></p>\n\n<p class="p2"><span class="s1">Sidney Lacey\, Lacey Newday\, LLC\, Principal/Director</span></p>\n\n<p class="p2"><span class="s1">Howard Block\, Lacey Newday\, LLC\, Director Health and Welfare Benefits Solutions</span></p>\n\n<p class="p2"><span class="s1">&nbsp\;</span></p>\n\n<p class="p2"><strong><span class="s1">Who Should Attend?</span></strong></p>\n\n<p class="p2"><span class="s1">&bull\;&nbsp\;&nbsp\;Business Owners</span></p>\n\n<p class="p2"><span class="s1">&bull\;&nbsp\;&nbsp\;H.R. Representatives</span></p>\n\n<p class="p2"><span class="s1">&bull\;&nbsp\;&nbsp\;General Counsel</span></p>\n\n<p class="p2"><span class="s1">&bull\;&nbsp\;&nbsp\;Anyone Concerned With Risks</span></p>\n
LOCATION:HCC Southeast Campus Workforce Development Building Room 316 6815 Rustic Drive Houston\, TX 77087
UID:e.2026.5069051
SEQUENCE:3
DTSTAMP:20260425T215052Z
URL:http://houstoneastend.smartcms.site/events/details/business-over-breakfast-5069051
END:VEVENT

END:VCALENDAR
