BEGIN:VCALENDAR
VERSION:2.0
PRODID:-//ChamberMaster//Event Calendar 2.0//EN
METHOD:PUBLISH
X-PUBLISHED-TTL:P3D
REFRESH-INTERVAL:P3D
CALSCALE:GREGORIAN
BEGIN:VEVENT
DTSTART:20191023T153000Z
DTEND:20191023T163000Z
X-MICROSOFT-CDO-ALLDAYEVENT:FALSE
SUMMARY:Business Development Committee Meeting - October 2019
DESCRIPTION:Create new business relationships\, lend your expertise\, help the Chamber and your personal network grow!\n\n\n\nJoin the Business Development committee which helps identify current topics facing business owners\, growth opportunities\, business expansion and coordinate business networking events.
X-ALT-DESC;FMTTYPE=text/html:<strong style="color: rgb(21\, 27\, 38)\; font-family: -apple-system\, BlinkMacSystemFont\, &quot\;Segoe UI&quot\;\, Roboto\, &quot\;Helvetica Neue&quot\;\, Helvetica\, Arial\, sans-serif\; white-space: pre-wrap\;">Create new business relationships\, lend your expertise\, help the Chamber and your personal network grow!</strong><br />\n<br style="color: rgb(21\, 27\, 38)\; font-family: -apple-system\, BlinkMacSystemFont\, &quot\;Segoe UI&quot\;\, Roboto\, &quot\;Helvetica Neue&quot\;\, Helvetica\, Arial\, sans-serif\; white-space: pre-wrap\;" />\n<span style="color: rgb(21\, 27\, 38)\; font-family: -apple-system\, BlinkMacSystemFont\, &quot\;Segoe UI&quot\;\, Roboto\, &quot\;Helvetica Neue&quot\;\, Helvetica\, Arial\, sans-serif\; white-space: pre-wrap\;">Join the Business Development committee which helps identify current topics facing business owners\, growth opportunities\, business expansion and coordinate business networking events.</span>
LOCATION:Houston East End Chamber of Commerce Office
UID:e.2026.5071994
SEQUENCE:3
DTSTAMP:20260424T080956Z
URL:http://houstoneastend.smartcms.site/events/details/business-development-committee-meeting-october-2019-5071994
END:VEVENT

END:VCALENDAR
