BEGIN:VCALENDAR
VERSION:2.0
PRODID:-//ChamberMaster//Event Calendar 2.0//EN
METHOD:PUBLISH
X-PUBLISHED-TTL:P3D
REFRESH-INTERVAL:P3D
CALSCALE:GREGORIAN
BEGIN:VEVENT
DTSTART:20240201T220000Z
DTEND:20240202T000000Z
X-MICROSOFT-CDO-ALLDAYEVENT:FALSE
SUMMARY:Business After Hours at The Storyhive
DESCRIPTION:Mix and mingle with East End Chamber of Commerce members and friends and leave with valuable business contacts! Bring a guest with you and introduce them to the East End Chamber!
X-ALT-DESC;FMTTYPE=text/html:<p><strong>Mix and mingle with East End Chamber of Commerce members and friends and leave with valuable business contacts!&nbsp\;Bring a guest with you and introduce them to the East End Chamber!</strong></p>\n<br />\n<br />\n&nbsp\;
LOCATION:The Storyhive 4010 Canal St. Houston\, TX 77003
UID:e.2026.5072556
SEQUENCE:3
DTSTAMP:20260420T114034Z
URL:http://houstoneastend.smartcms.site/events/details/business-after-hours-at-the-storyhive-5072556
END:VEVENT

END:VCALENDAR
