BEGIN:VCALENDAR
VERSION:2.0
PRODID:-//ChamberMaster//Event Calendar 2.0//EN
METHOD:PUBLISH
X-PUBLISHED-TTL:P3D
REFRESH-INTERVAL:P3D
CALSCALE:GREGORIAN
BEGIN:VEVENT
DTSTART:20241009T220000Z
DTEND:20241010T000000Z
X-MICROSOFT-CDO-ALLDAYEVENT:FALSE
SUMMARY:Business After Hours at Tejas Brewery & Taproom
DESCRIPTION:Mix and mingle with East End Chamber of Commerce members and friends and leave with valuable business contacts! Bring a guest with you and introduce them to the East End Chamber!
X-ALT-DESC;FMTTYPE=text/html:<p><strong>Mix and mingle with East End Chamber of Commerce members and friends and leave with valuable business contacts!&nbsp\;Bring a guest with you and introduce them to the East End Chamber!</strong></p>\n\n<div style="text-align: center\;">&nbsp\;</div>\n
LOCATION:Tejas Brewery & Taproom 2101 Summer St. Houston\, TX 77007
UID:e.2026.5072621
SEQUENCE:3
DTSTAMP:20260419T224118Z
URL:http://houstoneastend.smartcms.site/events/details/business-after-hours-at-tejas-brewery-taproom-5072621
END:VEVENT

END:VCALENDAR
