BEGIN:VCALENDAR
VERSION:2.0
PRODID:-//ChamberMaster//Event Calendar 2.0//EN
METHOD:PUBLISH
X-PUBLISHED-TTL:P3D
REFRESH-INTERVAL:P3D
CALSCALE:GREGORIAN
BEGIN:VEVENT
DTSTART:20250423T220000Z
DTEND:20250424T000000Z
X-MICROSOFT-CDO-ALLDAYEVENT:FALSE
SUMMARY:Business After Hours at Lustre Pearl Houston
DESCRIPTION:Mix and mingle with East End Chamber of Commerce members and friends and leave with valuable business contacts! Bring a guest with you and introduce them to the East End Chamber!
X-ALT-DESC;FMTTYPE=text/html:<p><strong>Mix and mingle with East End Chamber of Commerce members and friends and leave with valuable business contacts!&nbsp\;Bring a guest with you and introduce them to the East End Chamber!</strong></p>\n\n<div style="text-align: center\;">&nbsp\;</div>\n
LOCATION:Lustre Pearl Houston 2106 Dallas St\, Suite 100 Houston\, TX 77003
UID:e.2026.5072692
SEQUENCE:3
DTSTAMP:20260419T132315Z
URL:http://houstoneastend.smartcms.site/events/details/business-after-hours-at-lustre-pearl-houston-5072692
END:VEVENT

END:VCALENDAR
