BEGIN:VCALENDAR
VERSION:2.0
PRODID:-//ChamberMaster//Event Calendar 2.0//EN
METHOD:PUBLISH
X-PUBLISHED-TTL:P3D
REFRESH-INTERVAL:P3D
CALSCALE:GREGORIAN
BEGIN:VEVENT
DTSTART:20231109T220000Z
DTEND:20231110T000000Z
X-MICROSOFT-CDO-ALLDAYEVENT:FALSE
SUMMARY:Business After Hours at El Jardin Restaurant
DESCRIPTION:Mix and mingle with East End Chamber of Commerce members and friends and leave with valuable business contacts! Bring a guest with you and introduce them to the East End Chamber!
X-ALT-DESC;FMTTYPE=text/html:<span style="font-family: Roboto\, sans-serif\;"><span style="font-size:18px\;"><span style="font-family:arial\;">Mix and mingle with East End Chamber of Commerce members and friends and leave with valuable business contacts!&nbsp\;Bring a guest with you and introduce them to the East End Chamber!</span></span></span><br />\n<br />\n<br />\n&nbsp\;
LOCATION:El Jardin Restaurant 7849 Harrisburg Houston\, TX 77012
UID:e.2026.5072477
SEQUENCE:3
DTSTAMP:20260420T191020Z
URL:http://houstoneastend.smartcms.site/events/details/business-after-hours-at-el-jardin-restaurant-5072477
END:VEVENT

END:VCALENDAR
