BEGIN:VCALENDAR
VERSION:2.0
PRODID:-//ChamberMaster//Event Calendar 2.0//EN
METHOD:PUBLISH
X-PUBLISHED-TTL:P3D
REFRESH-INTERVAL:P3D
CALSCALE:GREGORIAN
BEGIN:VEVENT
DTSTART:20191016T223000Z
DTEND:20191017T003000Z
X-MICROSOFT-CDO-ALLDAYEVENT:FALSE
SUMMARY:Business After Hours
DESCRIPTION:Mix and mingle with East End Chamber of Commerce members and friends and leave with valuable business contacts! Bring a guest with you and introduce them to the East End Chamber!
X-ALT-DESC;FMTTYPE=text/html:<span style="font-family: Roboto\, sans-serif\;"><span style="font-size:18px\;"><span style="font-family:arial\;">Mix and mingle with East End Chamber of Commerce members and friends and leave with valuable business contacts!&nbsp\;Bring a guest with you and introduce them to the East End Chamber!</span></span></span><br />\n<br />\n<br />\n&nbsp\;
LOCATION:Frost Bank 2240 Navigation Blvd Suite 400 Houston\, TX 77003
UID:e.2026.5071630
SEQUENCE:3
DTSTAMP:20260424T080957Z
URL:http://houstoneastend.smartcms.site/events/details/business-after-hours-5071630
END:VEVENT

END:VCALENDAR
