BEGIN:VCALENDAR
VERSION:2.0
PRODID:-//ChamberMaster//Event Calendar 2.0//EN
METHOD:PUBLISH
X-PUBLISHED-TTL:P3D
REFRESH-INTERVAL:P3D
CALSCALE:GREGORIAN
BEGIN:VEVENT
DTSTART:20190411T220000Z
DTEND:20190412T000000Z
X-MICROSOFT-CDO-ALLDAYEVENT:FALSE
SUMMARY:Business After Hours
DESCRIPTION:Mix and mingle with East End Chamber of Commerce members and friends and leave with valuable business contacts! Bring a guest with you and introduce them to the East End Chamber!\n\n\n\nHappy Hour Specials: $3 craft pints and 1/2 off wine and frozen cocktails!
X-ALT-DESC;FMTTYPE=text/html:<span style="font-family: Roboto\, sans-serif\;"><span style="font-size:18px\;"><span style="font-family:arial\;">Mix and mingle with East End Chamber of Commerce members and friends and leave with valuable business contacts!&nbsp\;Bring a guest with you and introduce them to the East End Chamber!</span></span></span><br />\n<br />\n<span style="font-size:18px\;"><span style="font-family:arial\;">Happy Hour Specials: $3 craft pints and 1/2 off wine and frozen cocktails!</span></span><br />\n&nbsp\;
LOCATION:Pitch 25 2120 Walker St\, Houston\, TX 77003
UID:e.2026.5071383
SEQUENCE:3
DTSTAMP:20260424T175648Z
URL:http://houstoneastend.smartcms.site/events/details/business-after-hours-5071383
END:VEVENT

END:VCALENDAR
