BEGIN:VCALENDAR
VERSION:2.0
PRODID:-//ChamberMaster//Event Calendar 2.0//EN
METHOD:PUBLISH
X-PUBLISHED-TTL:P3D
REFRESH-INTERVAL:P3D
CALSCALE:GREGORIAN
BEGIN:VEVENT
DTSTART:20180419T220000Z
DTEND:20180420T000000Z
X-MICROSOFT-CDO-ALLDAYEVENT:FALSE
SUMMARY:Business After Hours
DESCRIPTION:Please join us at Dionisio Winery for our Business After Hours. Food provided by Taco Cabana and El Bolillo Bakery will be providing dessert. For more information please call 713-926-3305 or events@eecoc.org.
X-ALT-DESC;FMTTYPE=text/html:Please join us at Dionisio Winery&nbsp\;for our Business After Hours. Food provided by Taco Cabana and El Bolillo Bakery will be providing dessert. For more information please call 713-926-3305 or events@eecoc.org.
LOCATION:708 Telephone Rd\, Houston\, TX 77023
UID:e.2026.5069060
SEQUENCE:3
DTSTAMP:20260425T144848Z
URL:http://houstoneastend.smartcms.site/events/details/business-after-hours-5069060
END:VEVENT

END:VCALENDAR
