BEGIN:VCALENDAR
VERSION:2.0
PRODID:-//ChamberMaster//Event Calendar 2.0//EN
METHOD:PUBLISH
X-PUBLISHED-TTL:P3D
REFRESH-INTERVAL:P3D
CALSCALE:GREGORIAN
BEGIN:VEVENT
DTSTART:20180627T220000Z
DTEND:20180628T000000Z
X-MICROSOFT-CDO-ALLDAYEVENT:FALSE
SUMMARY:Business After Hours
DESCRIPTION:Please join us at Anheuser-Busch Tasting Room for our Business After Hours sponsored by Amegy Bank with food provided by Lenox BBQ. For more information please contact Madeline at 713-926-3305 or events@eecoc.org.
X-ALT-DESC;FMTTYPE=text/html:Please join us at Anheuser-Busch Tasting Room for our Business After Hours sponsored by Amegy Bank with food provided by Lenox BBQ. For more information please contact Madeline at 713-926-3305 or events@eecoc.org.
LOCATION:775 Gellhorn Dr. Houston\, TX 77029
UID:e.2026.5070087
SEQUENCE:3
DTSTAMP:20260425T111833Z
URL:http://houstoneastend.smartcms.site/events/details/business-after-hours-06-27-2018-5070087
END:VEVENT

END:VCALENDAR
