BEGIN:VCALENDAR
VERSION:2.0
PRODID:-//ChamberMaster//Event Calendar 2.0//EN
METHOD:PUBLISH
X-PUBLISHED-TTL:P3D
REFRESH-INTERVAL:P3D
CALSCALE:GREGORIAN
BEGIN:VEVENT
DTSTART:20210325T160000Z
DTEND:20210325T170000Z
X-MICROSOFT-CDO-ALLDAYEVENT:FALSE
SUMMARY:BUILDING YOUR SALES PIPELINE
DESCRIPTION:REGISTER HERE\n\n \nLooking for a competitive edge?  Trying to reinvent your sales strategy?  Is your website tired?  Do you know when to bring in the professionals versus organic public relations? How do you keep talent?  Do you have measures in place to control your costs and keep profits up?  If you answered yes to any of these\, these workshops could help.\n\n\n\nEach session will be offered in a live\, virtual format and is built to deliver an opportunity to engage with industry professionals and peers in relevant discussions and lecture sessions. The Chamber Workshops attendees will have valuable tools and take always to navigate\, succeed and thrive in the new business landscape known as the Pandemic Economy.
X-ALT-DESC;FMTTYPE=text/html:<br>\n<br>\n<span style="font-size:28px\;"><a href="https://us02web.zoom.us/webinar/register/WN_IlvSc3xaScyTiMHJnFXmKw">REGISTER HERE</a></span><br>\n&nbsp\;\n<p><span style="font-size:16px\;">Looking for a competitive edge?&nbsp\; Trying to reinvent your sales strategy?&nbsp\; Is your website tired?&nbsp\; Do you know when to bring in the professionals versus organic public relations? How do you keep talent?&nbsp\; Do you have measures in place to control your costs and keep profits up?&nbsp\; If you answered yes to any of these\, these workshops could help.<br>\n<br>\n<span style="background-image: initial\; background-position: initial\; background-size: initial\; background-repeat: initial\; background-attachment: initial\; background-origin: initial\; background-clip: initial\;"><span style="font-family: arial\, sans-serif\;">Each session will be offered in a live\, virtual format and is built to deliver an opportunity to engage with industry professionals and peers in relevant discussions and lecture sessions. The Chamber Workshops attendees will have valuable tools and take always to navigate\, succeed and thrive in the new business landscape known as the Pandemic Economy.</span></span></span></p>\n
LOCATION:Zoom
UID:e.2026.5072259
SEQUENCE:3
DTSTAMP:20260423T030646Z
URL:http://houstoneastend.smartcms.site/events/details/building-your-sales-pipeline-03-25-2021-5072259
END:VEVENT

END:VCALENDAR
