BEGIN:VCALENDAR
VERSION:2.0
PRODID:-//ChamberMaster//Event Calendar 2.0//EN
METHOD:PUBLISH
X-PUBLISHED-TTL:P3D
REFRESH-INTERVAL:P3D
CALSCALE:GREGORIAN
BEGIN:VEVENT
DTSTART:20210324T130000Z
DTEND:20210324T143000Z
X-MICROSOFT-CDO-ALLDAYEVENT:FALSE
SUMMARY:Breakfast Exchange
DESCRIPTION:Join us at our FREE Breakfast Exchange hosted by Russ and Company at Acadian Coast. This event is open to member & non-members. It's a valuable networking opportunity to meet key business prospects.\n\n \n\nMeet and hear from our Sponsor Reagan and Carla Singer of Russ and Company\, they have a diverse portfolio of residential and commercial rentals\, as well as short term Airbnb rentals in the East End. \n\n \n\nThe safety of our members and our guests are our highest priority. We will follow the guidelines of our venue\, Acadian Coast and continue social distancing. Their employees will continue to wear masks and for everyone's safety\, we highly encourage our guests to do the same\, unless they are eating. Thank you for working with us to keep everyone safe!
X-ALT-DESC;FMTTYPE=text/html:<br />\n<br />\n<span style="color:#4C4C4C\;"><span style="font-family:arial\,sans-serif\;">Join us at our&nbsp\;<strong>FREE Breakfast Exchange</strong>&nbsp\;hosted by Russ and Company at </span></span><span style="font-family:arial\,sans-serif\;">Acadian Coast<span style="color:#4C4C4C\;">. This event is open to member &amp\; non-members. It&#39\;s a valuable networking opportunity to meet key business prospects.</span></span><br />\n&nbsp\;<br />\n<span style="color:#4C4C4C\;"><span style="font-family:arial\,sans-serif\;">Meet and hear from our Sponsor </span></span><strong><span style="font-family:arial\,sans-serif\;">Reagan and Carla Singer of Russ and Company</span></strong><span style="color:#4C4C4C\;"><span style="font-family:arial\,sans-serif\;">\, they have a </span></span><span style="font-family:arial\,sans-serif\;">diverse portfolio of residential&nbsp\;and commercial&nbsp\;rentals\, as well as short term Airbnb rentals in the East End. </span><br />\n&nbsp\;<br />\nThe safety of our members and our guests are our highest priority. We will follow the guidelines of our venue\, Acadian Coast and continue social distancing.&nbsp\;Their employees will continue to wear masks and for everyone&rsquo\;s safety\, we highly encourage our guests to do the same\, unless they are eating. Thank you for working with us to keep everyone safe!<br />\n<br />\n<br />\n<br />\n&nbsp\;
LOCATION:Acadian Coast 2929 Navigation Blvd Suite 220 Houston\, Texas 77003
UID:e.2026.5072252
SEQUENCE:3
DTSTAMP:20260423T030326Z
URL:http://houstoneastend.smartcms.site/events/details/breakfast-exchange-5072252
END:VEVENT

END:VCALENDAR
