BEGIN:VCALENDAR
VERSION:2.0
PRODID:-//ChamberMaster//Event Calendar 2.0//EN
METHOD:PUBLISH
X-PUBLISHED-TTL:P3D
REFRESH-INTERVAL:P3D
CALSCALE:GREGORIAN
BEGIN:VEVENT
DTSTART:20180424T200000Z
DTEND:20180424T230000Z
X-MICROSOFT-CDO-ALLDAYEVENT:FALSE
SUMMARY:Berkeley Eye Center Ribbon Cutting
DESCRIPTION:Please join us at the new Berkeley Eye Center - East Freeway Open House and Ribbon Cutting next Tuesday\, April 24! There will be prizes\, sunglasses giveaways\, and same-day optical specials. \n\n\n\nRibbon cutting ceremony will be at 4:00 pm.\n\n\n\nFor more information please contact Sue at: 713-515-7775 or sue.flannigan@berkeleyeye.com
X-ALT-DESC;FMTTYPE=text/html:<span style="font-size:14px\;"><span style="font-family:arial\;"><span style="color: rgb(29\, 33\, 41)\;">Please join us at the new Berkeley Eye Center - East Freeway Open House and Ribbon Cutting next Tuesday\, April 24! There will be prizes\, sunglasses giveaways\, and same-day optical specials.&nbsp\;</span><br />\n<br />\nRibbon cutting ceremony will be at 4:00 pm.<br style="color: rgb(29\, 33\, 41)\; font-family: Helvetica\, Arial\, sans-serif\; font-size: 14px\;" />\n<br />\nFor more information please contact&nbsp\;<span style="color: rgb(21\, 27\, 38)\; white-space: pre-wrap\;">Sue at: 713-515-7775 or </span><a href="mailto:sue.flannigan@berkeleyeye.com" rel="nofollow noreferrer" style="color: rgb(20\, 170\, 245)\; cursor: pointer\; text-decoration-line: none\; font-family: -apple-system\, BlinkMacSystemFont\, &quot\;Segoe UI&quot\;\, Roboto\, &quot\;Helvetica Neue&quot\;\, Helvetica\, Arial\, sans-serif\; white-space: pre-wrap\;" target="_blank">sue.flannigan@berkeleyeye.com</a></span></span>
LOCATION:11110 East Freeway Street Ste. 100-C Houston\, TX 77029
UID:e.2026.5070084
SEQUENCE:3
DTSTAMP:20260425T144901Z
URL:http://houstoneastend.smartcms.site/events/details/berkeley-eye-center-ribbon-cutting-5070084
END:VEVENT

END:VCALENDAR
