BEGIN:VCALENDAR
VERSION:2.0
PRODID:-//ChamberMaster//Event Calendar 2.0//EN
METHOD:PUBLISH
X-PUBLISHED-TTL:P3D
REFRESH-INTERVAL:P3D
CALSCALE:GREGORIAN
BEGIN:VEVENT
DTSTART:20190816T140000Z
DTEND:20190816T170000Z
X-MICROSOFT-CDO-ALLDAYEVENT:FALSE
SUMMARY:Back to School Event
DESCRIPTION:Annual Back to School Health Fair. First 800 students will receive a backpack with school supplies. Open to community.
X-ALT-DESC;FMTTYPE=text/html:Annual Back to School Health Fair. First 800 students will receive a backpack with school supplies. Open to community.
LOCATION:5751 Blythewood St. Houston TX 77021
UID:e.2026.5071628
SEQUENCE:3
DTSTAMP:20260424T111852Z
URL:http://houstoneastend.smartcms.site/events/details/back-to-school-event-5071628
END:VEVENT

END:VCALENDAR
