BEGIN:VCALENDAR
VERSION:2.0
PRODID:-//ChamberMaster//Event Calendar 2.0//EN
METHOD:PUBLISH
X-PUBLISHED-TTL:P3D
REFRESH-INTERVAL:P3D
CALSCALE:GREGORIAN
BEGIN:VEVENT
DTSTART:20180506T000000Z
DTEND:20180506T030000Z
X-MICROSOFT-CDO-ALLDAYEVENT:FALSE
SUMMARY:Art with Heart
DESCRIPTION:Join San Jos  Clinic for a night of auctions as we honor Houston Mayor Sylvester Turner with the Portrait of Compassion. Event Chairs His Eminence Daniel Cardinal DiNardo and the San Jos  Clinic Board of Directors invite you to Art with Heart 2018. This event features silent auctions of museum-quality pieces\, including the Collector's Corner for the art connoisseur\, artwork from talented local and renowned artists\, beautiful jewelry\, and unique experiences on the Big Board\, and more. As we celebrate the 11th annual Art with Heart\, we will be recognizing Mayor Turner for his dedication to the underserved in our community\, including the uninsured\, vulnerable\, and those in search of sanctuary.
X-ALT-DESC;FMTTYPE=text/html:Join San Jos&eacute\; Clinic for a night of auctions as we honor Houston Mayor Sylvester Turner with the Portrait of Compassion. Event Chairs His Eminence Daniel Cardinal DiNardo and the San Jos&eacute\; Clinic Board of Directors invite you to Art with Heart 2018. This event features silent auctions of museum-quality pieces\, including the Collector&#39\;s Corner for the art connoisseur\, artwork from talented local and renowned artists\, beautiful jewelry\, and unique experiences on the Big Board\, and more. As we celebrate the 11th annual Art with Heart\, we will be recognizing Mayor Turner for his dedication to the underserved in our community\, including the uninsured\, vulnerable\, and those in search of sanctuary.
LOCATION:3118 Harrisburg Boulevard\, Houston \, TX 77003
UID:e.2026.5069072
SEQUENCE:3
DTSTAMP:20260425T125751Z
URL:http://houstoneastend.smartcms.site/events/details/art-with-heart-5069072
END:VEVENT

END:VCALENDAR
