BEGIN:VCALENDAR
VERSION:2.0
PRODID:-//ChamberMaster//Event Calendar 2.0//EN
METHOD:PUBLISH
X-PUBLISHED-TTL:P3D
REFRESH-INTERVAL:P3D
CALSCALE:GREGORIAN
BEGIN:VEVENT
DTSTART:20171129T143000Z
DTEND:20171129T153000Z
X-MICROSOFT-CDO-ALLDAYEVENT:FALSE
SUMMARY:Ambassador Meeting
DESCRIPTION:If you would like to attend our monthly Ambassador Meeting please contact\n\n713-926-3305
X-ALT-DESC;FMTTYPE=text/html:If you would like to attend our monthly Ambassador Meeting please contact<br />\n713-926-3305
LOCATION:East End Chamber of Commerce Office (550 Gulfgate Center\, Houston\, TX 77087)
UID:e.2026.5068539
SEQUENCE:3
DTSTAMP:20260426T010847Z
URL:http://houstoneastend.smartcms.site/events/details/ambassador-meeting-11-29-2017-5068539
END:VEVENT

END:VCALENDAR
