BEGIN:VCALENDAR
VERSION:2.0
PRODID:-//ChamberMaster//Event Calendar 2.0//EN
METHOD:PUBLISH
X-PUBLISHED-TTL:P3D
REFRESH-INTERVAL:P3D
CALSCALE:GREGORIAN
BEGIN:VEVENT
DTSTART:20210508T150000Z
DTEND:20210508T180000Z
X-MICROSOFT-CDO-ALLDAYEVENT:FALSE
SUMMARY:AAMA's Sand Volleyball Tournament
DESCRIPTION:Tournament Details: Player Registration $25 Two 4 vs. 4 Single game elimination 4-6 Players per team Must have one female per team Complete form and send to events@aama.org to register your team.
X-ALT-DESC;FMTTYPE=text/html:Tournament Details: Player Registration $25 Two 4 vs. 4 Single game elimination 4-6 Players per team Must have one female per team Complete form and send to events@aama.org to register your team.
LOCATION:Wakefield Crowbar
UID:e.2026.5072272
SEQUENCE:3
DTSTAMP:20260422T232311Z
URL:http://houstoneastend.smartcms.site/events/details/aama-s-sand-volleyball-tournament-5072272
END:VEVENT

END:VCALENDAR
