BEGIN:VCALENDAR
VERSION:2.0
PRODID:-//ChamberMaster//Event Calendar 2.0//EN
METHOD:PUBLISH
X-PUBLISHED-TTL:P3D
REFRESH-INTERVAL:P3D
CALSCALE:GREGORIAN
BEGIN:VEVENT
DTSTART:20190505T190000Z
DTEND:20190505T220000Z
X-MICROSOFT-CDO-ALLDAYEVENT:FALSE
SUMMARY:AAMA's Piñata Bash
DESCRIPTION:Mark your calendars for AAMA's Pi ata Bash\, a Cinco de Mayo celebration\, to raise fund for AAMA's programs. The Pi ata Bash will take place at the beautiful property of restaurateur\, Irma Galvan. This event will include a DJ\, raffle\, door prizes\, tapas\, beverages and of course pi ata bashing! If you want to be involved with this event or sponsor contact dortiz@aama.org.
X-ALT-DESC;FMTTYPE=text/html:Mark your calendars for AAMA&rsquo\;s Pi&ntilde\;ata Bash\, a Cinco de Mayo celebration\, to raise fund for AAMA&rsquo\;s programs. The Pi&ntilde\;ata Bash will take place at the beautiful property of restaurateur\, Irma Galvan. This event will include a DJ\, raffle\, door prizes\, tapas\, beverages and of course pi&ntilde\;ata bashing! If you want to be involved with this event or sponsor contact dortiz@aama.org.
LOCATION:5511 Jefferson St. Houston\, TX 77023
UID:e.2026.5071593
SEQUENCE:3
DTSTAMP:20260424T161155Z
URL:http://houstoneastend.smartcms.site/events/details/aama-s-pi&#241;ata-bash-05-05-2019-5071593
END:VEVENT

END:VCALENDAR
