BEGIN:VCALENDAR
VERSION:2.0
PRODID:-//ChamberMaster//Event Calendar 2.0//EN
METHOD:PUBLISH
X-PUBLISHED-TTL:P3D
REFRESH-INTERVAL:P3D
CALSCALE:GREGORIAN
BEGIN:VEVENT
DTSTART:20191021T120000Z
DTEND:20191021T230000Z
X-MICROSOFT-CDO-ALLDAYEVENT:FALSE
SUMMARY:2nd Annual Historic Gus Wortham Golf Tournament
DESCRIPTION:Join us October 21\, 2019 for the 2nd annual Historic Gus Wortham golf tournament. This four person scramble will help raise funds to complete Phase II of the restoration of Gus! Phase II includes a new club house with community space\, dedicated The First Tee space\, redesigned entry and parking lot\, dedicated short game area and cart barn. Click here to register today for an 8 am or 1 pm shotgun start and enjoy great food and beverage sponsors: Maga's\, Irma's Southwest\, Dinner Bell\, Blue Bell\,Saint Arnold's\, and Topo Chico.
X-ALT-DESC;FMTTYPE=text/html:<h2><span style="font-size:14px"><span style="font-family:times new roman">Join us October 21\, 2019 for the 2nd annual&nbsp\;<a href="http://www.guswortham.org/historic-gus-wortham-golf-tournament/" style="color: rgb(7\, 130\, 193)\;">Historic Gus Wortham golf tournament</a>. This four person scramble&nbsp\;will help raise funds to complete Phase II of the restoration of Gus! Phase II includes a new club house with community space\, dedicated The First Tee space\, redesigned entry and parking lot\, dedicated short game area and cart barn.&nbsp\;<a href="https://interland3.donorperfect.net/weblink/weblink.aspx?name=E193575&amp\;id=28" style="color: rgb(7\, 130\, 193)\;">Click here</a>&nbsp\;to register today for an 8 am or 1 pm shotgun start and enjoy great food and beverage sponsors: Maga&#39\;s\, Irma&#39\;s Southwest\, Dinner Bell\, Blue Bell\,Saint Arnold&#39\;s\, and Topo Chico.</span></span></h2>\n
LOCATION:Gus Wortham Park Golf Course 7000 Capitol Street Houston\, TX 77011
UID:e.2026.5071991
SEQUENCE:3
DTSTAMP:20260424T081021Z
URL:http://houstoneastend.smartcms.site/events/details/2nd-annual-historic-gus-wortham-golf-tournament-5071991
END:VEVENT

END:VCALENDAR
