BEGIN:VCALENDAR
VERSION:2.0
PRODID:-//ChamberMaster//Event Calendar 2.0//EN
METHOD:PUBLISH
X-PUBLISHED-TTL:P3D
REFRESH-INTERVAL:P3D
CALSCALE:GREGORIAN
BEGIN:VEVENT
DTSTART:20240418T160000Z
DTEND:20240418T183000Z
X-MICROSOFT-CDO-ALLDAYEVENT:FALSE
SUMMARY:2024 Vision Luncheon
DESCRIPTION:Join us for our annual Vision Luncheon featuring the newly elected Mayor of Houston\, John Whitmire. This event offers a unique opportunity to hear directly from Mayor Whitmire about his visionary plans and goals for the city\, the East End and opportunities for business\, education\, and community.\n\n\nSPONSORSHIP OPPORTUNITIES \nPRESENTING SPONSOR | $10\,000 *\n\n(2) Premium tables of 8\n\n. Serve as host table for keynote speaker\n\n. Logo recognition on event web page for 1 year\n\n. Opening remarks at the event\n\n. Promotion in all event e-newsletters\n\n. Logo recognition in all programs and print materials\n\n. Full-page ad in the program\n\n. Premium EXPO table\n\n. Verbal recognition throughout the event\n\n. Recognition in rolling visual PowerPoint\n\n\n\nPLATINUM SPONSOR | $5\,000 *\n\n.Premium table of 8\n\n. Logo recognition on event web page for 1 year\n\n. Promotion in all event e-newsletters\n\n. Logo recognition in all programs and print materials\n\n. Full-page ad in the program\n\n. Premium EXPO table\n\n. Verbal recognition throughout the event\n\n. Recognition in rolling visual PowerPoint\n\n\n\nCENTERPIECE SPONSOR | $3\,000 *\n\n. Table of 8\n\n. Exclusive company logo featured at every table next to the centerpiece\n\n. Recognition in rolling visual PowerPoint\n\n. Recognition in all programs and marketing\n\n. Recognition on the event web page for 1 year\n\n\n\nGOLD SPONSOR | $2\,500 *\n\n. Premium table of 8\n\n. Logo recognition on event web page for 1 year\n\n. Promotion in all event e-newsletters\n\n. Name recognition in all programs and print materials\n\n. Half-page ad in the program\n\n. EXPO table\n\n. Verbal recognition during session\n\n. Recognition in rolling visual PowerPoint\n\n\n\nAUDIO AND VISUAL SPONSOR | $2\,000 *\n\n. Table of 8\n\n. Help support the audio/visual equipment rental for the event\n\n. Recognition in rolling visual PowerPoint\n\n. Recognition in all programs and marketing\n\n. Recognition on the event web page for 1 year\n\n\n\nSOCIAL MEDIA SPONSOR | $2\,000 *\n\n. Table of 8\n\n. Exclusive company logo featured on all social media signage at the event\n\n. Recognition in rolling visual PowerPoint\n\n. Recognition in all programs and marketing\n\n. Recognition on the event web page for 1 year\n\n\n\nPHOTOGRAPHY SPONSOR | $2\,000 *\n\n. Table of 8\n\n. Exclusive company logo featured on the photography link distributed in post-event email to attendees\n\n. Recognition in rolling visual PowerPoint\n\n. Recognition in all programs and marketing\n\n. Recognition on the event web page for 1 year\n\n\n\nREGISTRATION SPONSOR | $2\,000 *\n\n. Table of 8\n\n. Exclusive company logo featured at check-in at the event\n\n. Recognition in rolling visual PowerPoint\n\n. Recognition in all programs and marketing\n\n. Recognition on the event web page for 1 year\n\n\n\nSILVER SPONSOR | $1\,500 *\n\n. Table of 8\n\n. Name recognition on the event web page for 1 year\n\n. Promotion in all event e-newsletters\n\n. Recognition in all programs and print materials\n\n\n\nMEMBER EXPO BOOTH | $250\n\n. Members only\n\n. Includes 1 lunch\n\n\n\nNON-MEMBER EXPO BOOTH: $600\n\n. Includes 1 lunch\n\n. Includes 1 Year Membership at the $500 level\n\n\nCLICK HERE FOR A FULL 2023 EVENT RECAP INCLUDING ADDITIONAL PHOTOS\n\n\n\n*Credit Card payment fees will apply.
X-ALT-DESC;FMTTYPE=text/html:<strong>Join us for our annual Vision Luncheon featuring the newly elected Mayor of Houston\, John Whitmire. This event offers a unique opportunity to hear directly from Mayor Whitmire about his visionary plans and goals for the city\, the East End and opportunities for business\, education\, and community.</strong>\n<h4><br />\n<strong>SPONSORSHIP OPPORTUNITIES&nbsp\;</strong></h4>\n<strong>PRESENTING&nbsp\;SPONSOR | $10\,000<a href="https://www.eecoc.org/2023-vision-luncheon">&#8203\;</a></strong>*<br />\n(2) Premium tables of 8<br />\n. Serve as host table for keynote speaker<br />\n. Logo recognition on event web page for 1 year<br />\n. Opening remarks at the event<br />\n. Promotion in all event e-newsletters<br />\n. Logo recognition in all programs and print materials<br />\n. Full-page ad in the program<br />\n. Premium EXPO table<br />\n. Verbal recognition throughout the event<br />\n. Recognition in rolling visual PowerPoint<br />\n<br />\n<strong>PLATINUM SPONSOR | $5\,000<a href="https://www.eecoc.org/2023-vision-luncheon">&#8203\;</a></strong>*<br />\n.Premium table of 8<br />\n. Logo recognition on event web page for 1 year<br />\n. Promotion in all event e-newsletters<br />\n. Logo recognition in all programs and print materials<br />\n. Full-page ad in the program<br />\n. Premium EXPO table<br />\n. Verbal recognition throughout the event<br />\n. Recognition in rolling visual PowerPoint<br />\n<br />\n<strong>CENTERPIECE SPONSOR | $3\,000<a href="https://www.eecoc.org/2023-vision-luncheon">&#8203\;</a></strong>*<br />\n. Table of 8<br />\n. Exclusive company logo featured at every table next to the centerpiece<br />\n. Recognition in rolling visual PowerPoint<br />\n. Recognition in all programs and marketing<br />\n. Recognition on the event web page for 1 year<br />\n<br />\n<strong>GOLD SPONSOR | $2\,500<a href="https://www.eecoc.org/2023-vision-luncheon">&#8203\;</a></strong>*<br />\n. Premium table of 8<br />\n. Logo recognition on event web page for 1 year<br />\n. Promotion in all event e-newsletters<br />\n. Name recognition in all programs and print materials<br />\n. Half-page ad in the program<br />\n. EXPO table<br />\n. Verbal recognition during session<br />\n. Recognition in rolling visual PowerPoint<br />\n<br />\n<strong>AUDIO AND VISUAL SPONSOR | $2\,000<a href="https://www.eecoc.org/2023-vision-luncheon">&#8203\;</a></strong>*<br />\n. Table of 8<br />\n. Help support the audio/visual equipment rental for the event<br />\n. Recognition in rolling visual PowerPoint<br />\n. Recognition in all programs and marketing<br />\n. Recognition on the event web page for 1 year<br />\n<br />\n<strong>SOCIAL MEDIA SPONSOR | $2\,000<a href="https://www.eecoc.org/2023-vision-luncheon">&#8203\;</a></strong>*<br />\n. Table of 8<br />\n. Exclusive company logo featured on all social media signage at the event<br />\n. Recognition in rolling visual PowerPoint<br />\n. Recognition in all programs and marketing<br />\n. Recognition on the event web page for 1 year<br />\n<br />\n<strong>PHOTOGRAPHY SPONSOR | $2\,000<a href="https://www.eecoc.org/2023-vision-luncheon">&#8203\;</a></strong>*<br />\n. Table of 8<br />\n. Exclusive company logo featured on the photography link distributed in post-event email to attendees<br />\n. Recognition in rolling visual PowerPoint<br />\n. Recognition in all programs and marketing<br />\n. Recognition on the event web page for 1 year<br />\n<br />\n<strong>REGISTRATION SPONSOR | $2\,000<a href="https://www.eecoc.org/2023-vision-luncheon">&#8203\;</a></strong>*<br />\n. Table of 8<br />\n. Exclusive company logo featured at check-in at the event<br />\n. Recognition in rolling visual PowerPoint<br />\n. Recognition in all programs and marketing<br />\n. Recognition on the event web page for 1 year<br />\n<br />\n<strong>SILVER SPONSOR | $1\,500<a href="https://www.eecoc.org/2023-vision-luncheon">&#8203\;</a></strong>*<br />\n. Table of 8<br />\n. Name recognition on the event web page for 1 year<br />\n. Promotion in all event e-newsletters<br />\n. Recognition in all programs and print materials<br />\n<br />\n<strong>MEMBER EXPO BOOTH | $250</strong><br />\n. Members only<br />\n. Includes 1 lunch<br />\n<br />\n<strong>NON-MEMBER EXPO BOOTH: $600</strong><br />\n. Includes 1 lunch<br />\n. Includes 1 Year Membership at the $500 level\n<p><br />\n<strong><a href="https://www.eecoc.org/2023-vision-luncheon">CLICK HERE FOR A FULL 2023 EVENT RECAP INCLUDING ADDITIONAL PHOTOS</a></strong><br />\n<br />\n*Credit Card payment fees will apply.</p>\n
LOCATION:DoubleTree Hotel Houston Hobby Airport 8181 Airport Blvd\, Houston\, TX 77061
UID:e.2026.5072542
SEQUENCE:3
DTSTAMP:20260420T113902Z
URL:http://houstoneastend.smartcms.site/events/details/2024-vision-luncheon-5072542
END:VEVENT

END:VCALENDAR
