BEGIN:VCALENDAR
VERSION:2.0
PRODID:-//ChamberMaster//Event Calendar 2.0//EN
METHOD:PUBLISH
X-PUBLISHED-TTL:P3D
REFRESH-INTERVAL:P3D
CALSCALE:GREGORIAN
BEGIN:VEVENT
DTSTART:20240910T133000Z
DTEND:20240910T183000Z
X-MICROSOFT-CDO-ALLDAYEVENT:FALSE
SUMMARY:2024 East End Means Business: Connecting and Growing Businesses Through Knowledge & Procurement
DESCRIPTION:East End Means Business features a half-day program packed with invaluable resources for your small business. Our carefully curated discussion panels are designed to empower you with insights into the procurement process\, contracting opportunities\, and cutting-edge topics that can propel your business to new heights.\n\n\n\nSPONSORSHIP OPPORTUNITIES \n\nPresenting Sponsor | $15\,000 SOLD OUT\n\n- Listing as Title Sponsor of the East End Means Business half-day event\n\n- Option to give Welcome Remarks at breakfast & luncheon\n\n- Premium seating for 8 at breakfast & lunch\n\n- Logo recognition on event web page for 1 year\n\n- Promotion in all event e-newsletters\n\n- Recognition is all print materials\n\n- Full-page ad (5? x 8?) in program\n\n- Recognition on table centerpieces\n\n- Premium EXPO table\n\n- Verbal recognition throughout the event\n\n- Recognition on rolling PowerPoint\nBreakfast Procurement Panel Sponsor | $5\,000 SOLD OUT\n\n- Logo recognition on event web page for 1 year\n\n- Option to serve as moderator for Breakfast Procurement Panel\n\n-  Promotion in all event e-newsletters\n\n- Recognition in all programs and print materials\n\n- Full-page ad (5? x 8?) in program\n\n- Premium seating for 8 at breakfast & lunch\n\n- Premium EXPO table\n\n- Verbal recognition throughout the event\n\n- Recognition in rolling visual PowerPoint\n\n\n\nCEO Roundtable Panel Sponsor | $5\,000\n\n- Logo recognition on event web page for 1 year\n\n- Option to serve as moderator for CEO Roundtable Panel\n\n- Promotion in all event e-newsletters\n\n- Recognition in all programs and print materials\n\n- Full-page ad (5? x 8?) in program\n\n- Premium seating for 8 at breakfast & lunch\n\n- Premium EXPO table\n\n- Verbal recognition throughout the event\n\n- Recognition in rolling visual PowerPoint\n\n\n\nSession A or Session B Panel Sponsor | $3\,000\n\n- Session topic to be determined. Topics will focus on\n\nsmall business needs and waysto succeed\n\n- Logo recognition on event web page for 1 year\n\n- Opening remarks for Session A or Session B Panel\n\n- Promotion in all event e-newsletters\n\n- Recognition in all programs and print materials\n\n- Full-page ad (5? x 8?) in program\n\n- Premium seating for 8 at breakfast & lunch\n\n- Premium EXPO table\n\n- Verbal recognition throughout the event\n\n- Recognition in rolling visual PowerPoint\n\n\n\nGold Sponsor | $1\,000\n\nLogo recognition on event web page for 1 year\n\n- Promotion in all event e-newsletters\n\n- Recognition in all programs and print materials\n\n- Half page ad (5" x 3.875") in program\n\n- Premium seating for 8 at breakfast & lunch\n\n- EXPO table\n\n- Verbal recognition during session\n\n- Recognition in rolling visual PowerPoint\n\n\n\nSilver Sponsor | $500\n\n- Name recognition on event web page for 1 year\n\n- Promotion in all event e-newsletters\n\n- Recognition in all programs and print materials\n\n- Premium seating for 8 at breakfast & lunch\n\n- Members only\n\n- Includes 1 breakfast & lunch registration\n\n\n\nEXPO Booth | $200\n\n- Members only\n\n- Includes 1 breakfast & lunch registration\n\n \nCLICK HERE FOR A FULL 2023 EVENT RECAP INCLUDING ADDITIONAL PHOTOS
X-ALT-DESC;FMTTYPE=text/html:<p><strong>East End Means Business features a half-day program packed with invaluable resources for your small business. Our carefully curated discussion panels are designed to empower you with insights into the procurement process\, contracting opportunities\, and cutting-edge topics that can propel your business to new heights.</strong></p>\n\n<p><br />\n<strong>SPONSORSHIP OPPORTUNITIES&nbsp\;</strong></p>\n\n<p><strong>Presenting Sponsor | $15\,000 <span style="color:#FF0000\;">SOLD OUT</span></strong><your here="" logo=""><br />\n-&nbsp\;Listing as Title Sponsor of the East End Means Business half-day event<br />\n-&nbsp\;Option to give Welcome Remarks at breakfast &amp\; luncheon<br />\n-&nbsp\;Premium seating for 8 at breakfast &amp\; lunch<br />\n-&nbsp\;Logo recognition on event web page for 1 year<br />\n-&nbsp\;Promotion in all event e-newsletters<br />\n-&nbsp\;Recognition is all print materials<br />\n-&nbsp\;Full-page ad (5? x 8?) in program<br />\n-&nbsp\;Recognition on table centerpieces<br />\n-&nbsp\;Premium EXPO table<br />\n-&nbsp\;Verbal recognition throughout the event<br />\n-&nbsp\;Recognition on rolling PowerPoint</your></p>\n<strong>Breakfast Procurement Panel Sponsor | $5\,000 <span style="color:#FF0000\;">SOLD OUT</span></strong><br />\n-&nbsp\;Logo recognition on event web page for 1 year<br />\n-&nbsp\;Option to serve as moderator for Breakfast Procurement Panel<br />\n-&nbsp\; Promotion in all event e-newsletters<br />\n-&nbsp\;Recognition in all programs and print materials<br />\n-&nbsp\;Full-page ad (5? x 8?) in program<br />\n-&nbsp\;Premium seating for 8 at breakfast &amp\; lunch<br />\n-&nbsp\;Premium EXPO table<br />\n-&nbsp\;Verbal recognition throughout the event<br />\n-&nbsp\;Recognition in rolling visual PowerPoint<br />\n<br />\n<strong>CEO Roundtable Panel Sponsor | $5\,000</strong><br />\n-&nbsp\;Logo recognition on event web page for 1 year<br />\n-&nbsp\;Option to serve as moderator for CEO Roundtable Panel<br />\n-&nbsp\;Promotion in all event e-newsletters<br />\n-&nbsp\;Recognition in all programs and print materials<br />\n-&nbsp\;Full-page ad (5? x 8?) in program<br />\n-&nbsp\;Premium seating for 8 at breakfast &amp\; lunch<br />\n-&nbsp\;Premium EXPO table<br />\n-&nbsp\;Verbal recognition throughout the event<br />\n-&nbsp\;Recognition in rolling visual PowerPoint<br />\n<br />\n<strong>Session A or Session B Panel Sponsor | $3\,000</strong><br />\n-&nbsp\;Session topic to be determined. Topics will focus on<br />\nsmall business needs and waysto succeed<br />\n-&nbsp\;Logo recognition on event web page for 1 year<br />\n-&nbsp\;Opening remarks for Session A or Session B Panel<br />\n-&nbsp\;Promotion in all event e-newsletters<br />\n-&nbsp\;Recognition in all programs and print materials<br />\n-&nbsp\;Full-page ad (5? x 8?) in program<br />\n-&nbsp\;Premium seating for 8 at breakfast &amp\; lunch<br />\n-&nbsp\;Premium EXPO table<br />\n-&nbsp\;Verbal recognition throughout the event<br />\n-&nbsp\;Recognition in rolling visual PowerPoint<br />\n<br />\n<strong>Gold Sponsor | $1\,000</strong><br />\nLogo recognition on event web page for 1 year<br />\n-&nbsp\;Promotion in all event e-newsletters<br />\n-&nbsp\;Recognition in all programs and print materials<br />\n-&nbsp\;Half page ad (5&quot\; x 3.875&quot\;) in program<br />\n-&nbsp\;Premium seating for 8 at breakfast &amp\; lunch<br />\n-&nbsp\;EXPO table<br />\n-&nbsp\;Verbal recognition during session<br />\n-&nbsp\;Recognition in rolling visual PowerPoint<br />\n<br />\n<strong>Silver Sponsor | $500</strong><br />\n-&nbsp\;Name recognition on event web page for 1 year<br />\n-&nbsp\;Promotion in all event e-newsletters<br />\n-&nbsp\;Recognition in all programs and print materials<br />\n-&nbsp\;Premium seating for 8 at breakfast &amp\; lunch<br />\n-&nbsp\;Members only<br />\n-&nbsp\;Includes 1 breakfast &amp\; lunch registration<br />\n<br />\n<strong>EXPO Booth&nbsp\;| $200</strong><br />\n-&nbsp\;Members only<br />\n-&nbsp\;Includes 1 breakfast &amp\; lunch registration<br />\n&nbsp\;\n<h4><strong><a href="https://www.eecoc.org/2023-east-end-means-business">CLICK HERE FOR A FULL 2023 EVENT RECAP INCLUDING ADDITIONAL PHOTOS</a></strong></h4>\n
LOCATION:The Federal Reserve Bank 1801 Allen Pkwy Houston\, TX 77019
UID:e.2026.5072548
SEQUENCE:3
DTSTAMP:20260420T002235Z
URL:http://houstoneastend.smartcms.site/events/details/2024-east-end-means-business-connecting-and-growing-businesses-through-knowledge-procurement-5072548
END:VEVENT

END:VCALENDAR
