BEGIN:VCALENDAR
VERSION:2.0
PRODID:-//ChamberMaster//Event Calendar 2.0//EN
METHOD:PUBLISH
X-PUBLISHED-TTL:P3D
REFRESH-INTERVAL:P3D
CALSCALE:GREGORIAN
BEGIN:VEVENT
DTSTART:20240815T163000Z
DTEND:20240815T183000Z
X-MICROSOFT-CDO-ALLDAYEVENT:FALSE
SUMMARY:2024 East End Forum: Plant Manager Panel
DESCRIPTION:WANT TO CONNECT WITH HOUSTON'S LEADING PLANTS?\n\nThe East End Forum addresses important issues impacting the local industry of the East End and Houston region. This year's Forum will feature a discussion with Houston's leading plant managers. Get a front row seat and learn about doing business\, community impact\, career opportunities\, plant safety & more.\n\n \n\nSPONSORSHIP OPPORTUNITIES \n\n\n	\n		\n			PRESENTING SPONSOR | $7\,500\n\n			(2) Premium tables of 8\n\n			. Logo recognition on event web page for 1 year\n\n			. Opening remarks at the event\n\n			. Promotion in all event e-newsletters\n\n			. Logo recognition in all programs and print materials\n\n			. Full-page ad in the program\n\n			. Premium EXPO table\n\n			. Verbal recognition throughout the event\n\n			. Recognition in rolling visual PowerPoint\n\n			 \n\n			PLATINUM SPONSOR | $5\,000\n\n			.Premium table of 8\n\n			. Logo recognition on event web page for 1 year\n\n			. Promotion in all event e-newsletters\n\n			. Logo recognition in all programs and print materials\n\n			. Full-page ad in the program\n\n			. Premium EXPO table\n\n			. Verbal recognition throughout the event\n\n			. Recognition in rolling visual PowerPoint\n\n			 \n\n			CENTERPIECE SPONSOR | $3\,000 SOLD OUT\n\n			. Table of 8\n\n			. Exclusive company logo featured at every table next to the centerpiece\n\n			. Recognition in rolling visual PowerPoint\n\n			. Recognition in all programs and marketing\n\n			. Recognition on the event web page for 1 year\n\n			 \n\n			GOLD SPONSOR | $2\,500\n\n			. Premium table of 8\n\n			. Logo recognition on event web page for 1 year\n\n			. Promotion in all event e-newsletters\n\n			. Name recognition in all programs and print materials\n\n			. Half-page ad in the program\n\n			. EXPO table\n\n			. Verbal recognition during session\n\n			. Recognition in rolling visual PowerPoint\n			AUDIO AND VISUAL SPONSOR | $2\,000\n\n			. Table of 8\n\n			. Help support the audio/visual equipment rental for the event\n\n			. Recognition in rolling visual PowerPoint\n\n			. Recognition in all programs and marketing\n\n			. Recognition on the event web page for 1 year\n\n			\n\n			SOCIAL MEDIA SPONSOR | $2\,000 SOLD OUT\n\n			. Table of 8\n\n			. Exclusive company logo featured on all social media signage at the event\n\n			. Recognition in all programs and marketing\n\n			. Recognition on the event web page for 1 year\n\n			 \n\n			PHOTOGRAPHY SPONSOR | $2\,000\n\n			. Table of 8\n\n			. Exclusive company logo featured on the photography link distributed in post-event email to attendees\n\n			. Recognition in rolling visual PowerPoint\n\n			. Recognition in all programs and marketing\n\n			. Recognition on the event web page for 1 year\n\n			 \n\n			REGISTRATION SPONSOR | $2\,000 SOLD OUT\n\n			. Table of 8\n\n			. Exclusive company logo featured at check-in at the event\n\n			. Recognition in rolling visual PowerPoint\n\n			. Recognition in all programs and marketing\n\n			. Recognition on the event web page for 1 year\n\n			 \n\n			SILVER SPONSOR | $1\,500\n\n			. Table of 8\n\n			. Name recognition on the event web page for 1 year\n\n			. Promotion in all event e-newsletters\n\n			. Recognition in all programs and print materials\n\n			 \n\n			MEMBER EXPO BOOTH | $300\n\n			. Members only\n\n			. Includes 1 lunch\n\n			 \n\n			NON-MEMBER EXPO BOOTH | $650\n\n			. Includes 1 lunch\n\n			. Includes 1 Year Membership at the $500 level\n\n			\n\n			\n\n			 \n		\n	\n\n\n\np.p1 {margin: 0.0px 0.0px 0.0px 0.0px\; font: 10.0px 'Gotham Rounded'} p.p2 {margin: 0.0px 0.0px 0.0px 0.0px\; font: 9.0px 'Gotham Rounded'} span.s1 {font: 9.5px 'Gotham Rounded'}
X-ALT-DESC;FMTTYPE=text/html:<strong><span style="font-size:18px\;">WANT TO CONNECT WITH HOUSTON&#39\;S LEADING PLANTS?</span><br />\nThe East End Forum addresses important issues impacting the local industry of the East End and Houston region. This year&#39\;s Forum will feature a discussion with Houston&#39\;s leading plant managers. Get a front row seat and learn about doing business\, community impact\, career opportunities\, plant safety &amp\; more.</strong><br />\n&nbsp\;\n<hr />\n<h3><strong>SPONSORSHIP OPPORTUNITIES&nbsp\;</strong></h3>\n\n<table border="0" cellpadding="1" cellspacing="1" style="width:800px\;">\n	<tbody>\n		<tr>\n			<td><strong>PRESENTING SPONSOR | $7\,500</strong><br />\n			(2) Premium tables of 8<br />\n			. Logo recognition on event web page for 1 year<br />\n			. Opening remarks at the event<br />\n			. Promotion in all event e-newsletters<br />\n			. Logo recognition in all programs and print materials<br />\n			. Full-page ad in the program<br />\n			. Premium EXPO table<br />\n			. Verbal recognition throughout the event<br />\n			. Recognition in rolling visual PowerPoint<br />\n			&nbsp\;<br />\n			<strong>PLATINUM SPONSOR | $5\,000</strong><br />\n			.Premium table of 8<br />\n			. Logo recognition on event web page for 1 year<br />\n			. Promotion in all event e-newsletters<br />\n			. Logo recognition in all programs and print materials<br />\n			. Full-page ad in the program<br />\n			. Premium EXPO table<br />\n			. Verbal recognition throughout the event<br />\n			. Recognition in rolling visual PowerPoint<br />\n			&nbsp\;<br />\n			<strong>CENTERPIECE SPONSOR | $3\,000&nbsp\;</strong><span style="font-size:12px\;"><span style="color: rgb(255\, 0\, 0)\; font-family: Raleway\, sans-serif\; font-weight: 700\;">SOLD OUT</span></span><br />\n			. Table of 8<br />\n			. Exclusive company logo featured at every table next to the centerpiece<br />\n			. Recognition in rolling visual PowerPoint<br />\n			. Recognition in all programs and marketing<br />\n			. Recognition on the event web page for 1 year<br />\n			&nbsp\;<br />\n			<strong>GOLD SPONSOR | $2\,500</strong><br />\n			. Premium table of 8<br />\n			. Logo recognition on event web page for 1 year<br />\n			. Promotion in all event e-newsletters<br />\n			. Name recognition in all programs and print materials<br />\n			. Half-page ad in the program<br />\n			. EXPO table<br />\n			. Verbal recognition during session<br />\n			. Recognition in rolling visual PowerPoint</td>\n			<td><strong>AUDIO AND VISUAL SPONSOR&nbsp\;| $2\,000</strong><br />\n			. Table of 8<br />\n			. Help support the audio/visual equipment rental for the event<br />\n			. Recognition in rolling visual PowerPoint<br />\n			. Recognition in all programs and marketing<br />\n			. Recognition on the event web page for 1 year<br />\n			<br />\n			<strong>SOCIAL MEDIA SPONSOR | $2\,000&nbsp\;</strong><span style="color: rgb(255\, 0\, 0)\; font-family: Raleway\, sans-serif\; font-size: 12px\; font-weight: 700\;">SOLD OUT</span><br />\n			. Table of 8<br />\n			. Exclusive company logo featured on all social media signage at the event<br />\n			. Recognition in all programs and marketing<br />\n			. Recognition on the event web page for 1 year<br />\n			&nbsp\;<br />\n			<strong>PHOTOGRAPHY SPONSOR | $2\,000</strong><br />\n			. Table of 8<br />\n			. Exclusive company logo featured on the photography link distributed in post-event email to attendees<br />\n			. Recognition in rolling visual PowerPoint<br />\n			. Recognition in all programs and marketing<br />\n			. Recognition on the event web page for 1 year<br />\n			&nbsp\;<br />\n			<strong>REGISTRATION SPONSOR | $2\,000&nbsp\;</strong><span style="color: rgb(255\, 0\, 0)\; font-family: Raleway\, sans-serif\; font-size: 12px\; font-weight: 700\;">SOLD OUT</span><br />\n			. Table of 8<br />\n			. Exclusive company logo featured at check-in at the event<br />\n			. Recognition in rolling visual PowerPoint<br />\n			. Recognition in all programs and marketing<br />\n			. Recognition on the event web page for 1 year<br />\n			&nbsp\;<br />\n			<strong>SILVER SPONSOR | $1\,500</strong><br />\n			. Table of 8<br />\n			. Name recognition on the event web page for 1 year<br />\n			. Promotion in all event e-newsletters<br />\n			. Recognition in all programs and print materials<br />\n			&nbsp\;<br />\n			<strong>MEMBER EXPO BOOTH | $300</strong><br />\n			. Members only<br />\n			. Includes 1 lunch<br />\n			&nbsp\;<br />\n			<strong>NON-MEMBER EXPO BOOTH | $650</strong><br />\n			. Includes 1 lunch<br />\n			. Includes 1 Year Membership at the $500 level<br />\n			<br />\n			<br />\n			&nbsp\;</td>\n		</tr>\n	</tbody>\n</table>\n<br />\n<style type="text/css">p.p1 {margin: 0.0px 0.0px 0.0px 0.0px\; font: 10.0px 'Gotham Rounded'} p.p2 {margin: 0.0px 0.0px 0.0px 0.0px\; font: 9.0px 'Gotham Rounded'} span.s1 {font: 9.5px 'Gotham Rounded'}\n</style>\n
LOCATION:Houston Marriott South at Hobby Airport 9100 Gulf Fwy\, Houston\, TX 77017
UID:e.2026.5072547
SEQUENCE:3
DTSTAMP:20260420T020831Z
URL:http://houstoneastend.smartcms.site/events/details/2024-east-end-forum-plant-manager-panel-5072547
END:VEVENT

END:VCALENDAR
