BEGIN:VCALENDAR
VERSION:2.0
PRODID:-//ChamberMaster//Event Calendar 2.0//EN
METHOD:PUBLISH
X-PUBLISHED-TTL:P3D
REFRESH-INTERVAL:P3D
CALSCALE:GREGORIAN
BEGIN:VEVENT
DTSTART:20241115T233000Z
DTEND:20241116T050000Z
X-MICROSOFT-CDO-ALLDAYEVENT:FALSE
SUMMARY:2024 East End Awards & Scholarship Celebration
DESCRIPTION:The 28th Annual East End Awards & Scholarship Celebration recognizes and awards Chamber Members whose efforts and leadership further the growth of the East End area.  \n\nProceeds from the event & silent auction will further the East End Chamber's mission to connect businesses and promote economic expansion and development in the area. A portion of the proceeds will benefit the Chamber's workforce and scholarship initiatives\, making a difference in the lives of East End area youth. We look forward to celebrating with you!  \n\n\n\nSPONSORSHIP OPPORTUNITIES \n\n \n\nUnderwriter Partner | $15\,000\n\n Title sponsorship of event\n\n (2) Front row tables for 8\n\n Listed for 1 year as Title Sponsor on event web page\n\n Full page advertisement in event program\n\n Company logo on all printed materials\n\n Event invitation recognition\n\n Inclusion in all media\n\n Social media marketing\n\n Signage recognition at event\n\n Mention in ALL Marketing for event\n\n Master of Ceremonies recognition/opening remarks\n\n One Time Exclusive Email Blast\n\n Banner ad in 3 email blasts throughout the year\n\n 4 Bottles of Wine Per Table\n\n Full Page ad in our 2025 East End Guide\n\n\n\nCelebration Partner | $10\,000 \n\n Listed for 1 year as a partner on event web page\n\n (1) Front row table for 8\n\n Full page advertisement in event program\n\n Company logo on all printed materials\n\n Event invitation recognition\n\n Inclusion in all media\n\n Social media marketing\n\n Signage recognition at event\n\n Master of Ceremonies recognition\n\n Banner ad in 3 email blasts throughout the year\n\n 4 Bottles of Wine\n\n Half Page ad in our 2025 East End Guide\n\n\n\nMaritime Partner | $6\,000\n\n Listed for 1 year as a partner on event web page\n\n Premier table for 8\n\n Half page advertisement in event program\n\n Social media marketing\n\n Signage recognition at event\n\n Banner ad in 1 email blast\n\n 2 Bottles of Wine\n\n\n\nEducation Partner | $3\,000 \n\n Listed for 1 year as a partner on event web page\n\n Priority table for 8\n\n Logo in event program\n\n Social Media marketing \n\n\n\nAdditional Partnerships | $4\,000 |  Music Sponsor\, Silent Auction Sponsor\, Welcome Sponsor\, Centerpiece Sponsor\, Memento Sponsor\, Photo Booth Sponsor\, Spirit Sponsor\n\n (1) Table for 8\n\n Recognition in rolling visual PowerPoint\n\n Recognition in all programs and marketing\n\n Recognition on event web page for 1 year\n\n\n\nCLICK HERE FOR A FULL 2023 EVENT RECAP INCLUDING ADDITIONAL PHOTOS
X-ALT-DESC;FMTTYPE=text/html:<p>The 28th Annual East End Awards &amp\; Scholarship Celebration&nbsp\;recognizes and awards Chamber Members whose efforts and leadership further the growth of the East End area.&nbsp\;&nbsp\;</p>\n\n<p>Proceeds from the event &amp\; silent auction&nbsp\;will further the East End Chamber&rsquo\;s mission to connect businesses and promote economic expansion and development in the area. A portion of the proceeds will benefit the Chamber&rsquo\;s workforce and scholarship initiatives\, making a difference in the lives of East End area youth. We look forward to celebrating with you!&nbsp\;&nbsp\;<br />\n<br />\n<strong>SPONSORSHIP OPPORTUNITIES&nbsp\;</strong></p>\n\n<h3>&nbsp\;</h3>\n\n<p><strong>Underwriter Partner | $15\,000</strong><br />\n&bull\;Title sponsorship of event<br />\n&bull\;(2) Front row tables for 8<br />\n&bull\;Listed for 1 year as Title Sponsor on event web page<br />\n&bull\;Full page advertisement in event program<br />\n&bull\;Company logo on all printed materials<br />\n&bull\;Event invitation recognition<br />\n&bull\;Inclusion in all media<br />\n&bull\;Social media marketing<br />\n&bull\;Signage recognition at event<br />\n&bull\;Mention in ALL Marketing for event<br />\n&bull\;Master of Ceremonies recognition/opening remarks<br />\n&bull\;One Time Exclusive Email Blast<br />\n&bull\;Banner ad in 3 email blasts throughout the year<br />\n&bull\;4 Bottles of Wine Per Table<br />\n&bull\;Full Page ad in our 2025&nbsp\;East End Guide<br />\n<br />\n<strong>Celebration Partner | $10\,000&nbsp\;</strong><br />\n&bull\;Listed for 1 year as a partner on event web page<br />\n&bull\;(1) Front row table for 8<br />\n&bull\;Full page advertisement in event program<br />\n&bull\;Company logo on all printed materials<br />\n&bull\;Event invitation recognition<br />\n&bull\;Inclusion in all media<br />\n&bull\;Social media marketing<br />\n&bull\;Signage recognition at event<br />\n&bull\;Master of Ceremonies recognition<br />\n&bull\;Banner ad in 3 email blasts throughout the year<br />\n&bull\;4 Bottles of Wine<br />\n&bull\;Half Page ad in our 2025&nbsp\;East End Guide<br />\n<br />\n<b>Maritime Partner | $6\,000</b><br />\n&bull\;Listed for 1 year as a partner on event web page<br />\n&bull\;Premier table for 8<br />\n&bull\;Half page advertisement in event program<br />\n&bull\;Social media marketing<br />\n&bull\;Signage recognition at event<br />\n&bull\;Banner ad in 1 email blast<br />\n&bull\;2 Bottles of Wine<br />\n<br />\n<strong>Education Partner | $3\,000&nbsp\;</strong><br />\n&bull\;Listed for 1 year as a partner on event web page<br />\n&bull\;Priority table for 8<br />\n&bull\;Logo in event program<br />\n&bull\;Social Media marketing&nbsp\;<br />\n<br />\n<strong>Additional Partnerships | $4\,000 |&nbsp\;&#8203\;Music Sponsor\, Silent Auction Sponsor\, Welcome Sponsor\, Centerpiece Sponsor\, Memento Sponsor\, Photo Booth Sponsor\, Spirit Sponsor</strong><br />\n&bull\;(1) Table for 8<br />\n&bull\;Recognition in rolling visual PowerPoint<br />\n&bull\;Recognition in all programs and marketing<br />\n&bull\;Recognition on event web page for 1 year<br />\n<br />\n<a href="https://www.eecoc.org/2023-east-end-awards-celebration" style="box-sizing: border-box\; background-color: transparent\; color: rgb(134\, 94\, 153)\; text-decoration-line: none\; font-weight: bold\; overflow-wrap: break-word\;"><span style="box-sizing: border-box\; font-weight: bolder\;">CLICK HERE FOR A FULL 2023 EVENT RECAP INCLUDING ADDITIONAL PHOTOS</span></a></p>\n
LOCATION:Houston Marriott South at Hobby Airport 9100 Gulf Fwy\, Houston\, TX 77017
UID:e.2026.5072550
SEQUENCE:3
DTSTAMP:20260419T205057Z
URL:http://houstoneastend.smartcms.site/events/details/2024-east-end-awards-scholarship-celebration-5072550
END:VEVENT

END:VCALENDAR
