BEGIN:VCALENDAR
VERSION:2.0
PRODID:-//ChamberMaster//Event Calendar 2.0//EN
METHOD:PUBLISH
X-PUBLISHED-TTL:P3D
REFRESH-INTERVAL:P3D
CALSCALE:GREGORIAN
BEGIN:VEVENT
DTSTART:20231019T143000Z
DTEND:20231019T183000Z
X-MICROSOFT-CDO-ALLDAYEVENT:FALSE
SUMMARY:2023 Port Houston Appreciation Business Expo & Luncheon
DESCRIPTION:Port Houston is not only the lifeline to our great city of Houston but is a vital member of the Chamber and key employer for our East End community. Over the last 32 years\, our Chamber has worked to support the Port in its mission To Move the World and Drive Regional Prosperity. This luncheon not only provides a State of the Port address but allows access for attendees to connect with Port Officials\, and network with industry forerunners represented by over 40 expo booths. \n\n\n\nWe are grateful to Port Houston for being a major economic engine at work and invite you to hear Port Houston Authority Chairman Ric Campo as he presents a State of the Port and East End Houston Initiatives. Hear about capital planning\, small business development efforts\, environmental stewardship and more. Don't miss your opportunity to network and promote your business during the Port Houston Appreciation Day & Business Expo!\n\n	Annually sold-out premium expo \n	Meet our Port Commissioners \n	Port Authority - State of the Port \n	Networking opportunities \n	Light breakfast & lunch included\n\nThe event program includes a breakfast session featuring Senator Carol Alvarado\, District 6 and Charlie Jenkins\, Chief Channel Infrastructure Officer for Port Houston. During the session Senator Alvarado will give an update on the previous legislative session\, followed by Mr. Jenkin's update on Project 11. We hope you can join us!
X-ALT-DESC;FMTTYPE=text/html:<div style="text-align: center\;">\n<div style="caret-color: rgb(64\, 63\, 66)\; color: rgb(64\, 63\, 66)\; font-family: Arial\, Verdana\, Helvetica\, sans-serif\; font-size: 12px\; text-align: left\;">\n<div style="caret-color: rgb(64\, 63\, 66)\; color: rgb(64\, 63\, 66)\; font-family: Arial\, Verdana\, Helvetica\, sans-serif\; font-size: 12px\;"><span style="font-size: 16px\; box-sizing: border-box\; caret-color: rgb(85\, 85\, 85)\; color: rgb(85\, 85\, 85)\; font-family: Raleway\, sans-serif\;"><span style="font-size:18px\;">Port Houston is not only the lifeline to our great city of Houston but is a vital member of the Chamber and key employer for our East End community. Over the last 32&nbsp\;years\, our Chamber has worked to support the Port in its mission To Move the World and Drive Regional Prosperity. This luncheon not only provides a State of the Port address but allows access for attendees to connect with Port Officials\, and network with industry forerunners represented by over 40 expo booths.&nbsp\;<br />\n<br />\nWe are grateful to Port Houston for being a major economic engine at work and invite you to hear Port Houston Authority Chairman Ric Campo as he presents a State of the Port and East End Houston Initiatives. Hear about capital planning\, small business development efforts\, environmental stewardship and more. Don&#39\;t miss your opportunity to network and promote your business during the Port Houston Appreciation Day &amp\; Business Expo!</span></span>\n<ul style="padding: 0px 40px\; background-color: rgb(255\, 255\, 255)\; color: rgb(64\, 63\, 66)\; font-family: Arial\, Verdana\, Helvetica\, sans-serif\; font-size: 12px\; caret-color: rgb(64\, 63\, 66)\;">\n	<li><span style="font-size: 16px\; box-sizing: border-box\; caret-color: rgb(85\, 85\, 85)\; color: rgb(85\, 85\, 85)\; font-family: Raleway\, sans-serif\;"><span style="font-size:18px\;">Annually sold-out premium expo&nbsp\;</span></span></li>\n	<li><span style="font-size: 16px\; box-sizing: border-box\; caret-color: rgb(85\, 85\, 85)\; color: rgb(85\, 85\, 85)\; font-family: Raleway\, sans-serif\;"><span style="font-size:18px\;">Meet our Port Commissioners&nbsp\;</span></span></li>\n	<li><span style="font-size: 16px\; box-sizing: border-box\; caret-color: rgb(85\, 85\, 85)\; color: rgb(85\, 85\, 85)\; font-family: Raleway\, sans-serif\;"><span style="font-size:18px\;">Port Authority - State of the Port&nbsp\;</span></span></li>\n	<li><span style="font-size: 16px\; box-sizing: border-box\; caret-color: rgb(85\, 85\, 85)\; color: rgb(85\, 85\, 85)\; font-family: Raleway\, sans-serif\;"><span style="font-size:18px\;">Networking opportunities&nbsp\;</span></span></li>\n	<li><span style="font-size: 16px\; box-sizing: border-box\; caret-color: rgb(85\, 85\, 85)\; color: rgb(85\, 85\, 85)\; font-family: Raleway\, sans-serif\;"><span style="font-size:18px\;">Light breakfast &amp\; lunch included</span></span></li>\n</ul>\n<span style="font-size: 16px\; box-sizing: border-box\; caret-color: rgb(85\, 85\, 85)\; color: rgb(85\, 85\, 85)\; font-family: Raleway\, sans-serif\;"><span style="font-size:18px\;">The event program includes a breakfast session featuring Senator Carol Alvarado\, District 6 and Charlie Jenkins\, Chief Channel Infrastructure Officer for Port Houston. During the session Senator Alvarado will give an update on the previous legislative session\, followed by Mr. Jenkin&#39\;s update on Project 11.&nbsp\;We hope you can join us!&nbsp\;&nbsp\;</span></span></div>\n</div>\n</div>\n
LOCATION:Marriott South Hobby Airport 9100 Gulf Freeway Houston\, TX 77017
UID:e.2026.5072476
SEQUENCE:3
DTSTAMP:20260420T204419Z
URL:http://houstoneastend.smartcms.site/events/details/2023-port-houston-appreciation-business-expo-luncheon-5072476
END:VEVENT

END:VCALENDAR
