BEGIN:VCALENDAR
VERSION:2.0
PRODID:-//ChamberMaster//Event Calendar 2.0//EN
METHOD:PUBLISH
X-PUBLISHED-TTL:P3D
REFRESH-INTERVAL:P3D
CALSCALE:GREGORIAN
BEGIN:VEVENT
DTSTART;VALUE=DATE:20230501
DTEND;VALUE=DATE:20230502
TRANSP:TRANSPARENT
X-MICROSOFT-CDO-ALLDAYEVENT:TRUE
SUMMARY:2023 L.E.A.D East End
DESCRIPTION:Space is limited so ACT NOW to take advantage of this substantial curriculum at a reduced price! All graduates will be recognized at the East End Awards Celebration.\n\n\n\n\n\n\n\nPROGRAM DETAILS:\n\n	Chamber Members Only\n	Max 20 Participants\n	Pricing: $1\,500 per person\n	6 Month Program + Graduation Celebration\n	2 Hour Courses | 9:00 A.M. - 11:00 A.M.\n	At various East End business locations\n\n\n\nBUILDING THE EAST END'S EMERGING LEADERS\n\nL.E.A.D. East End invests in the development and coaching of next level management. This programs targets individuals and companies who have prioritized the importance of taking their career and businesses to the next level. This educational series focuses on leveraging the professional development opportunity with the importance of involvement in the community. L.E.A.D. is comprised of seven sessions that are customized experiences led by East End Business and Community leaders sharing best practices facing emerging leaders in today's business environment.\n\n \nEXCLUSIVE - MEMBERS ONLY\n\n\n	Understanding Leadership and Management\n	Managing Company Culture\n	Diversity in the Workforce\n	The difference between Sales and Marketing and its impact on Revenue Generation\n	Inspirational Success Stories\n	Learning about the rich history of the East End and its importance to Houston\n	Exclusive introductions to East End C-Suite business leaders\n\n \n\n\n\nAPPLICATIONS PROCESS\n\n\n	Applications are online at www.eecoc.org. Deadline is April 21\, 2023.\n	East End Chamber Board of Directors will review\, approve all applications that meet eligibility requirements.\n	Class is limited to 20 members.\n\n\n\n\n\n \n\n\n\nSPONSORSHIP OPPORTUNITIES AVAILABLE\n\nAS A SPONSOR YOU WILL ENJOY THESE BENEFITS\, WHICH GROW WITH YOUR INVESTMENT:\n\n\nEXCLUSIVE LEADERSHIP ENGAGEMENT ADVANCEMENT DEVELOPMENT SPONSOR\n\nYOUR INVESTMENT: $10\,000\n\n\n	L.E.A.D East End Class of 2023 Presented by (Your Company Logo)\n\n\n                      Opportunity to make brief remarks at start of each program day\n\n                      Brand recognition on day-of materials\n\n                      Name listed on website\n\n\n	Opportunity for a company representative to speak at various events during program\n	Enroll 2 participate in the program\n	Opportunity to host session day at site\n	Reinforce the impact of your organization by sharing a collateral piece with participants\n	Present remarks of Opening and Graduation Program\n\n\n\n\nSHARED L.E.A.D SPONSOR\n\nYOUR INVESTMENT: $5\,000\n\n\n	L.E.A.D East End Class of 2023 Supported by (Your Company Logo)\n\n\n                      Opportunity to make brief remarks at start of each program day\n\n                      Brand recognition on day-of materials\n\n                      Name listed on website\n\n\n	Opportunity to host session day at site\n	Enroll 1 participate in the program\n	Opportunity for a company representative to speak at various events during program\n	Reinforce the impact of your organization by sharing a collateral piece with participants\n\n\n\n\nSUPPORTING L.E.A.D SPONSOR\n\nYOUR INVESTMENT: $2\,000\n\n\n	L.E.A.D East End Class of 2023 Supported by (Your Company Name)\n\n\n                      Opportunity to make brief remarks at one of the six programs\n\n                      Brand recognition on day-of materials\n\n                      Name listed on Chamber website\n\n\n	Reinforce the impact of your organization by sharing a collateral piece with participants
X-ALT-DESC;FMTTYPE=text/html:Space is limited so ACT NOW to take advantage of this substantial curriculum at a reduced price! All graduates will be recognized at the East End Awards Celebration.<br />\n<br />\n<br />\n<br />\n<strong>PROGRAM DETAILS:</strong>\n<ul>\n	<li>Chamber Members Only</li>\n	<li>Max 20 Participants</li>\n	<li>Pricing: $1\,500 per person</li>\n	<li>6 Month Program + Graduation Celebration</li>\n	<li>2 Hour Courses | 9:00 A.M. - 11:00 A.M.</li>\n	<li>At various East End business locations</li>\n</ul>\n<br />\n<b>BUILDING THE EAST END&rsquo\;S EMERGING LEADERS</b><br />\nL.E.A.D. East End invests in the development and coaching of next level management. This programs targets individuals and companies who have prioritized the importance of taking their career and businesses to the next level. This educational series focuses on leveraging the professional development opportunity with the importance of involvement in the community. L.E.A.D. is comprised of seven sessions that are customized experiences led by East End Business and Community leaders sharing best practices facing emerging leaders in today&rsquo\;s business environment.<br />\n&nbsp\;\n<div><strong>EXCLUSIVE - MEMBERS ONLY</strong></div>\n\n<ul>\n	<li>Understanding Leadership and Management</li>\n	<li>Managing Company Culture</li>\n	<li>Diversity in the Workforce</li>\n	<li>The difference between Sales and Marketing and its impact on Revenue Generation</li>\n	<li>Inspirational Success Stories</li>\n	<li>Learning about the rich history of the East End and its importance to Houston</li>\n	<li>Exclusive introductions to East End C-Suite business leaders</li>\n</ul>\n&nbsp\;\n\n<div style="text-align: center\;">\n<div style="text-align: start\;">\n<div><strong>APPLICATIONS PROCESS</strong></div>\n\n<ul>\n	<li>Applications are online at www.eecoc.org. Deadline is April 21\, 2023.</li>\n	<li>East End Chamber Board of Directors will review\, approve all applications that meet eligibility requirements.</li>\n	<li>Class is limited to 20 members.</li>\n</ul>\n</div>\n\n<div style="text-align: start\;"><br />\n&nbsp\;</div>\n</div>\n\n<div>\n<p style="margin: 0px\; text-align: justify\; font-stretch: normal\; font-size: 11px\; line-height: normal\; font-family: Gotham\;"><span style="font-size:16px\;"><span style="color:#008080\;"><strong><span style="font-family:arial\;">SPONSORSHIP OPPORTUNITIES AVAILABLE</span></strong></span></span></p>\n\n<p style="margin: 0px\; text-align: justify\; font-stretch: normal\; font-size: 11px\; line-height: normal\; font-family: Gotham\;"><span style="font-size:18px\;"><span style="color:#008080\;"><strong><span style="font-family:arial\;"><strong font-size:="" style="color: rgb(0\, 128\, 128)\; font-family: sans-serif\, Arial\, Verdana\, " trebuchet="">AS A SPONSOR YOU WILL ENJOY THESE BENEFITS\, WHICH GROW WITH YOUR INVESTMENT:</strong></span></strong></span></span></p>\n<br />\n<span style="color:#008080\;"><strong><span style="font-size:14px\;">EXCLUSIVE&nbsp\;LEADERSHIP&nbsp\;ENGAGEMENT&nbsp\;ADVANCEMENT&nbsp\;DEVELOPMENT SPONSOR</span></strong></span><br />\nYOUR INVESTMENT: $10\,000</div>\n\n<ul>\n	<li>L.E.A.D East End Class of 2023 Presented by (Your Company Logo)</li>\n</ul>\n\n<div>&nbsp\;&nbsp\;&nbsp\;&nbsp\;&nbsp\;&nbsp\;&nbsp\;&nbsp\;&nbsp\;&nbsp\;&nbsp\;&nbsp\;&nbsp\;&nbsp\;&nbsp\;&nbsp\;&nbsp\;&nbsp\;&nbsp\;&nbsp\;&rsaquo\; Opportunity to make brief remarks at start of each program day<br />\n&nbsp\;&nbsp\;&nbsp\;&nbsp\;&nbsp\;&nbsp\;&nbsp\;&nbsp\;&nbsp\;&nbsp\;&nbsp\;&nbsp\;&nbsp\;&nbsp\;&nbsp\;&nbsp\;&nbsp\;&nbsp\;&nbsp\;&nbsp\;&rsaquo\; Brand recognition on day-of materials<br />\n&nbsp\;&nbsp\;&nbsp\;&nbsp\;&nbsp\;&nbsp\;&nbsp\;&nbsp\;&nbsp\;&nbsp\;&nbsp\;&nbsp\;&nbsp\;&nbsp\;&nbsp\;&nbsp\;&nbsp\;&nbsp\;&nbsp\;&nbsp\;&rsaquo\; Name listed on website</div>\n\n<ul>\n	<li>Opportunity for a company representative to speak at various events during program</li>\n	<li>Enroll 2 participate in the program</li>\n	<li>Opportunity to host session day at site</li>\n	<li>Reinforce the impact of your organization by sharing a collateral piece with participants</li>\n	<li>Present remarks of Opening and Graduation Program</li>\n</ul>\n\n<div><br />\n<span style="font-size:14px\;"><span style="color: rgb(0\, 128\, 128)\;"><strong>SHARED L.E.A.D SPONSOR</strong></span></span><br />\nYOUR INVESTMENT: $5\,000</div>\n\n<ul>\n	<li>L.E.A.D East End Class of 2023 Supported by (Your Company Logo)</li>\n</ul>\n\n<div>&nbsp\;&nbsp\;&nbsp\;&nbsp\;&nbsp\;&nbsp\;&nbsp\;&nbsp\;&nbsp\;&nbsp\;&nbsp\;&nbsp\;&nbsp\;&nbsp\;&nbsp\;&nbsp\;&nbsp\;&nbsp\;&nbsp\;&nbsp\;&rsaquo\; Opportunity to make brief remarks at start of each program day<br />\n&nbsp\;&nbsp\;&nbsp\;&nbsp\;&nbsp\;&nbsp\;&nbsp\;&nbsp\;&nbsp\;&nbsp\;&nbsp\;&nbsp\;&nbsp\;&nbsp\;&nbsp\;&nbsp\;&nbsp\;&nbsp\;&nbsp\;&nbsp\;&rsaquo\; Brand recognition on day-of materials<br />\n&nbsp\;&nbsp\;&nbsp\;&nbsp\;&nbsp\;&nbsp\;&nbsp\;&nbsp\;&nbsp\;&nbsp\;&nbsp\;&nbsp\;&nbsp\;&nbsp\;&nbsp\;&nbsp\;&nbsp\;&nbsp\;&nbsp\;&nbsp\;&rsaquo\; Name listed on website</div>\n\n<ul>\n	<li>Opportunity to host session day at site</li>\n	<li>Enroll 1 participate in the program</li>\n	<li>Opportunity for a company representative to speak at various events during program</li>\n	<li>Reinforce the impact of your organization by sharing a collateral piece with participants</li>\n</ul>\n\n<div><br />\n<span style="font-size:14px\;"><span style="color: rgb(0\, 128\, 128)\;"><strong>SUPPORTING L.E.A.D SPONSOR</strong></span></span><br />\nYOUR INVESTMENT: $2\,000</div>\n\n<ul>\n	<li>L.E.A.D East End Class of 2023 Supported by (Your Company Name)</li>\n</ul>\n\n<div>&nbsp\;&nbsp\;&nbsp\;&nbsp\;&nbsp\;&nbsp\;&nbsp\;&nbsp\;&nbsp\;&nbsp\;&nbsp\;&nbsp\;&nbsp\;&nbsp\;&nbsp\;&nbsp\;&nbsp\;&nbsp\;&nbsp\;&nbsp\;&rsaquo\; Opportunity to make brief remarks at one of the six programs<br />\n&nbsp\;&nbsp\;&nbsp\;&nbsp\;&nbsp\;&nbsp\;&nbsp\;&nbsp\;&nbsp\;&nbsp\;&nbsp\;&nbsp\;&nbsp\;&nbsp\;&nbsp\;&nbsp\;&nbsp\;&nbsp\;&nbsp\;&nbsp\;&rsaquo\; Brand recognition on day-of materials<br />\n&nbsp\;&nbsp\;&nbsp\;&nbsp\;&nbsp\;&nbsp\;&nbsp\;&nbsp\;&nbsp\;&nbsp\;&nbsp\;&nbsp\;&nbsp\;&nbsp\;&nbsp\;&nbsp\;&nbsp\;&nbsp\;&nbsp\;&nbsp\;&rsaquo\; Name listed on Chamber website</div>\n\n<ul>\n	<li>Reinforce the impact of your organization by sharing a collateral piece with participants</li>\n</ul>\n\n<div>&nbsp\;</div>\n\n<div style="text-align: center\;">&nbsp\;</div>\n
LOCATION:At various East End business locations
UID:e.2026.5072497
SEQUENCE:3
DTSTAMP:20260421T045531Z
URL:http://houstoneastend.smartcms.site/events/details/2023-l-e-a-d-east-end-5072497
END:VEVENT

END:VCALENDAR
