BEGIN:VCALENDAR
VERSION:2.0
PRODID:-//ChamberMaster//Event Calendar 2.0//EN
METHOD:PUBLISH
X-PUBLISHED-TTL:P3D
REFRESH-INTERVAL:P3D
CALSCALE:GREGORIAN
BEGIN:VEVENT
DTSTART:20211103T133000Z
DTEND:20211103T180000Z
X-MICROSOFT-CDO-ALLDAYEVENT:FALSE
SUMMARY:2021 Port Houston Appreciation Luncheon
DESCRIPTION:We are grateful to Port Houston for being a major economic engine at work and invite you to hear Port Houston Authority Chairman Ric Campo as he presents a State of the Port and East End Houston Initiatives. Hear about capital planning\, small business development efforts\, environmental stewardship and more. Don?t miss your opportunity to network and promote your business during the Port Houston Appreciation Day & Business Expo!\n\n\n	Annually sold out premium expo\n	Meet our Port Commissioners\n	Port Authority - State of the Port\n	Networking opportunities\n	Light breakfast & lunch included\n\n\n\n\nKEYNOTE SPEAKER \n\nRic Campo\, Chairman | Port Houston \n\n\n\nBREAKFAST SPEAKERS\n\nDevelopment Planning: A Look Into the Buffalo Bayou East Project\n\nJuan Sorto | Community Engagement Manager | Buffalo Bayou Partnership\n\n\n\nIan Rosenberg | Project Manager - Buffalo Bayou Partnership | INFILL Planning - Development LLC\n\n\n \n\nPROGRAM SCHEDULE\n\n8:30 am: Registration Opens\n\n9:30 am: Breakfast Speakers\n\n10:30 am: Expo & Networking\n\n11:30 am: Luncheon\n\n1:00 pm: Expo & Networking Continues\n\n\n\nSPONSORSHIPS\n\nPlatinum Sponsor: $5\,000\n\n\n	Logo recognition on event web page for 1 year\n	Promotion in all event e-newsletters\n	Recognition in all programs and print materials\n	Full page ad in program\n	Premium table of 8\n	Recognition on table centerpieces\n	Premium EXPO table\n	Verbal recognition through the entire event\n	Logo on event board at the event\n	Recognition in rolling visual PowerPoint\n	Optional host of VIP reception\n\n\nGold Sponsor: $2\,500\n\n\n	 Logo recognition on event web page for 1 year\n	Promotion in all event e-newsletters\n	Recognition in all programs and print materials\n	Half page ad in program\n	Premium table of 8\n	Recognition on table centerpieces\n	EXPO table\n	Verbal recognition during session\n	Recognition in rolling visual PowerPoint\n\n\nSilver Sponsor: $1\,000\n\n\n	Name recognition on event web page for one year\n	Promotion in all event e-newsletters\n	Recognition in all programs and print materials\n	Premium table of 8\n\n\n\nMember Expo Booth: $250\n\n\n	1 meal ticket\n\n\n\n\nNon- Member Expo Booth: $650\n\n\n	1 meal ticket\n	Includes 1 year membership at the $500 level\n\n\nIndividual Member Seat: $75\n\n\n\nIndividual Non-Member Seat: $95\n\n\n\nCOVID POLICY: The CDC recommends masks at events for non-vaccinated individuals\, even outdoors. The East End Chamber highly encourages every eligible individual to be fully vaccinated before attending an in person event. If you are not fully vaccinated\, please continue to wear a mask at all times during the event.\n\nThank you for helping us stay safe!
X-ALT-DESC;FMTTYPE=text/html:<div style="text-align: center\;">\n<div style="caret-color: rgb(64\, 63\, 66)\; color: rgb(64\, 63\, 66)\; font-family: Arial\, Verdana\, Helvetica\, sans-serif\; font-size: 12px\; text-align: left\;">\n<div style="caret-color: rgb(64\, 63\, 66)\; color: rgb(64\, 63\, 66)\; font-family: Arial\, Verdana\, Helvetica\, sans-serif\; font-size: 12px\;"><span style="font-size: 12px\; caret-color: rgb(64\, 63\, 66)\; font-family: arial\;"><span style="font-size: 20px\; font-weight: bold\;">We are grateful to Port Houston for being a major economic engine at work and invite you to hear Port Houston Authority Chairman Ric Campo as he presents a State of the Port and East End Houston Initiatives. Hear about capital planning\, small business development efforts\, environmental stewardship and more. Don?t miss your opportunity to network and promote your business during the Port Houston Appreciation Day &amp\; Business Expo!</span></span></div>\n\n<ul>\n	<li style="caret-color: rgb(64\, 63\, 66)\; color: rgb(64\, 63\, 66)\; font-family: Arial\, Verdana\, Helvetica\, sans-serif\; font-size: 12px\;"><span style="color: rgb(64\, 63\, 66)\; font-size: 12px\; caret-color: rgb(64\, 63\, 66)\; font-family: arial\;"><span style="font-size: 20px\; color: rgb(0\, 186\, 174)\; font-weight: bold\;">Annually sold out premium expo</span></span></li>\n	<li style="caret-color: rgb(64\, 63\, 66)\; color: rgb(64\, 63\, 66)\; font-family: Arial\, Verdana\, Helvetica\, sans-serif\; font-size: 12px\;"><span style="color: rgb(64\, 63\, 66)\; font-size: 12px\; caret-color: rgb(64\, 63\, 66)\; font-family: arial\;"><span style="font-size: 20px\; color: rgb(0\, 186\, 174)\; font-weight: bold\;">Meet our Port Commissioners</span></span></li>\n	<li style="caret-color: rgb(64\, 63\, 66)\; color: rgb(64\, 63\, 66)\; font-family: Arial\, Verdana\, Helvetica\, sans-serif\; font-size: 12px\;"><span style="color: rgb(64\, 63\, 66)\; font-size: 12px\; caret-color: rgb(64\, 63\, 66)\; font-family: arial\;"><span style="font-size: 20px\; color: rgb(0\, 186\, 174)\; font-weight: bold\;">Port Authority - State of the Port</span></span></li>\n	<li style="caret-color: rgb(64\, 63\, 66)\; color: rgb(64\, 63\, 66)\; font-family: Arial\, Verdana\, Helvetica\, sans-serif\; font-size: 12px\;"><span style="color: rgb(64\, 63\, 66)\; font-size: 12px\; caret-color: rgb(64\, 63\, 66)\; font-family: arial\;"><span style="font-size: 20px\; color: rgb(0\, 186\, 174)\; font-weight: bold\;">Networking opportunities</span></span></li>\n	<li style="caret-color: rgb(64\, 63\, 66)\; color: rgb(64\, 63\, 66)\; font-family: Arial\, Verdana\, Helvetica\, sans-serif\; font-size: 12px\;"><span style="color: rgb(64\, 63\, 66)\; font-size: 12px\; caret-color: rgb(64\, 63\, 66)\; font-family: arial\;"><span style="font-size: 20px\; color: rgb(0\, 186\, 174)\; font-weight: bold\;">Light breakfast &amp\; lunch included</span></span></li>\n</ul>\n\n<div style="caret-color: rgb(64\, 63\, 66)\; color: rgb(64\, 63\, 66)\; font-family: Arial\, Verdana\, Helvetica\, sans-serif\; font-size: 12px\;"><br />\n<span style="color: rgb(64\, 63\, 66)\; font-size: 12px\; caret-color: rgb(64\, 63\, 66)\; font-family: arial\;"><span style="font-size: 20px\; color: rgb(0\, 186\, 174)\; font-weight: bold\;">KEYNOTE SPEAKER&nbsp\;</span></span><br />\n<span style="color: rgb(64\, 63\, 66)\; caret-color: rgb(64\, 63\, 66)\; font-size: 20px\; font-weight: bold\; font-family: arial\;">Ric Campo\,&nbsp\;</span><span style="color: rgb(64\, 63\, 66)\; font-size: 12px\; caret-color: rgb(64\, 63\, 66)\; font-family: arial\;"><span style="font-size: 18px\; font-weight: bold\; text-align: center\;">Chairman |&nbsp\;</span><span style="font-size: 18px\; font-weight: bold\;">Port Houston&nbsp\;</span></span><br />\n<br />\n<span style="caret-color: rgb(64\, 63\, 66)\; color: rgb(0\, 186\, 174)\; font-family: arial\; font-size: 20px\; font-weight: bold\;">BREAKFAST SPEAKERS<br />\nDevelopment Planning: A Look Into the Buffalo Bayou East Project</span><br />\n<span style="caret-color: rgb(64\, 63\, 66)\; color: rgb(64\, 63\, 66)\; font-size: 20px\; font-weight: bold\; font-family: arial\;">Juan Sorto&nbsp\;|&nbsp\;Community Engagement Manager |&nbsp\;Buffalo Bayou&nbsp\;Partnership<br />\n<br />\nIan Rosenberg&nbsp\;|&nbsp\;Project Manager -&nbsp\;Buffalo Bayou&nbsp\;Partnership |&nbsp\;INFILL Planning -&nbsp\;Development LLC</span></div>\n</div>\n\n<div style="caret-color: rgb(64\, 63\, 66)\; color: rgb(64\, 63\, 66)\; font-family: Arial\, Verdana\, Helvetica\, sans-serif\; font-size: 12px\; text-align: left\;">&nbsp\;</div>\n\n<div style="text-align: left\;"><span style="caret-color: rgb(64\, 63\, 66)\; color: rgb(0\, 186\, 174)\; font-family: arial\; font-size: 20px\; font-weight: bold\;">PROGRAM SCHEDULE</span><br style="caret-color: rgb(64\, 63\, 66)\; color: rgb(64\, 63\, 66)\; font-family: Arial\, Verdana\, Helvetica\, sans-serif\; font-size: 12px\;" />\n<span style="font-size:20px\;"><span style="font-family:arial\;"><strong font-size:="" style="color: rgb(51\, 51\, 51)\; font-family: sans-serif\, Arial\, Verdana\, " trebuchet="">8:30 am:</strong><span background-color:="" font-size:="" trebuchet="">&nbsp\;</span><span background-attachment:="" background-clip:="" background-image:="" background-origin:="" background-position:="" background-repeat:="" background-size:="" font-size:="" trebuchet="">Registration Opens</span><br font-size:="" style="color: rgb(51\, 51\, 51)\; font-family: sans-serif\, Arial\, Verdana\, " trebuchet="" />\n<strong font-size:="" style="color: rgb(51\, 51\, 51)\; font-family: sans-serif\, Arial\, Verdana\, " trebuchet="">9:30 am:</strong><span background-color:="" font-size:="" trebuchet="">&nbsp\;</span><span background-attachment:="" background-clip:="" background-image:="" background-origin:="" background-position:="" background-repeat:="" background-size:="" font-size:="" trebuchet="">Breakfast Speakers</span><br font-size:="" style="color: rgb(51\, 51\, 51)\; font-family: sans-serif\, Arial\, Verdana\, " trebuchet="" />\n<strong font-size:="" style="color: rgb(51\, 51\, 51)\; font-family: sans-serif\, Arial\, Verdana\, " trebuchet="">10:30 am:</strong><span background-color:="" font-size:="" trebuchet="">&nbsp\;</span><span background-attachment:="" background-clip:="" background-image:="" background-origin:="" background-position:="" background-repeat:="" background-size:="" font-size:="" trebuchet="">Expo &amp\; Networking</span><br font-size:="" style="color: rgb(51\, 51\, 51)\; font-family: sans-serif\, Arial\, Verdana\, " trebuchet="" />\n<strong font-size:="" style="color: rgb(51\, 51\, 51)\; font-family: sans-serif\, Arial\, Verdana\, " trebuchet="">11:30 am:</strong><span background-color:="" font-size:="" trebuchet="">&nbsp\;</span><span background-attachment:="" background-clip:="" background-image:="" background-origin:="" background-position:="" background-repeat:="" background-size:="" font-size:="" trebuchet="">Luncheon</span><br font-size:="" style="color: rgb(51\, 51\, 51)\; font-family: sans-serif\, Arial\, Verdana\, " trebuchet="" />\n<strong font-size:="" style="color: rgb(51\, 51\, 51)\; font-family: sans-serif\, Arial\, Verdana\, " trebuchet="">1:00 pm:</strong><span background-color:="" font-size:="" trebuchet="">&nbsp\;</span><span background-attachment:="" background-clip:="" background-image:="" background-origin:="" background-position:="" background-repeat:="" background-size:="" font-size:="" trebuchet="">Expo &amp\; Networking Continues</span></span></span><br />\n<br />\n<span style="caret-color: rgb(64\, 63\, 66)\; color: rgb(0\, 186\, 174)\; font-family: arial\; font-size: 20px\; font-weight: bold\;">SPONSORSHIPS</span></div>\n\n<div style="text-align: left\;"><span style="font-size:16px\;"><span style="font-family:arial\;"><u font-size:="" style="color: rgb(51\, 51\, 51)\; font-family: sans-serif\, Arial\, Verdana\, " trebuchet=""><strong>Platinum Sponsor:&nbsp\;</strong>$5\,000</u></span></span></div>\n\n<ul>\n	<li style="text-align: left\;"><span style="color:#000000\;"><span style="font-size:16px\;"><span style="font-family:arial\;">Logo recognition on event web page for 1 year</span></span></span></li>\n	<li style="text-align: left\;"><span style="color:#000000\;"><span style="font-size:16px\;"><span style="font-family:arial\;">Promotion in all event e-newsletters</span></span></span></li>\n	<li style="text-align: left\;"><span style="color:#000000\;"><span style="font-size:16px\;"><span style="font-family:arial\;">Recognition in all programs and print materials</span></span></span></li>\n	<li style="text-align: left\;"><span style="color:#000000\;"><span style="font-size:16px\;"><span style="font-family:arial\;">Full page ad in program</span></span></span></li>\n	<li style="text-align: left\;"><span style="color:#000000\;"><span style="font-size:16px\;"><span style="font-family:arial\;">Premium table of 8</span></span></span></li>\n	<li style="text-align: left\;"><span style="color:#000000\;"><span style="font-size:16px\;"><span style="font-family:arial\;">Recognition on table centerpieces</span></span></span></li>\n	<li style="text-align: left\;"><span style="color:#000000\;"><span style="font-size:16px\;"><span style="font-family:arial\;">Premium EXPO table</span></span></span></li>\n	<li style="text-align: left\;"><span style="color:#000000\;"><span style="font-size:16px\;"><span style="font-family:arial\;">Verbal recognition through the entire event</span></span></span></li>\n	<li style="text-align: left\;"><span style="color:#000000\;"><span style="font-size:16px\;"><span style="font-family:arial\;">Logo on event board at the event</span></span></span></li>\n	<li style="text-align: left\;"><span style="color:#000000\;"><span style="font-size:16px\;"><span style="font-family:arial\;">Recognition in rolling visual PowerPoint</span></span></span></li>\n	<li style="text-align: left\;"><span style="color:#000000\;"><span style="font-size:16px\;"><span style="font-family:arial\;">Optional host of VIP reception</span></span></span></li>\n</ul>\n\n<div style="text-align: left\;"><span style="font-size:16px\;"><span style="font-family:arial\;"><u font-size:="" style="color: rgb(51\, 51\, 51)\; font-family: sans-serif\, Arial\, Verdana\, " trebuchet=""><strong>Gold Sponsor:</strong>&nbsp\;$2\,500</u></span></span></div>\n\n<ul>\n	<li style="text-align: left\;"><span style="color:#000000\;"><span style="font-size:16px\;"><span style="font-family:arial\;">&#8203\;Logo recognition on event web page for 1 year</span></span></span></li>\n	<li style="text-align: left\;"><span style="color:#000000\;"><span style="font-size:16px\;"><span style="font-family:arial\;">Promotion in all event e-newsletters</span></span></span></li>\n	<li style="text-align: left\;"><span style="color:#000000\;"><span style="font-size:16px\;"><span style="font-family:arial\;">Recognition in all programs and print materials</span></span></span></li>\n	<li style="text-align: left\;"><span style="color:#000000\;"><span style="font-size:16px\;"><span style="font-family:arial\;">Half page ad in program</span></span></span></li>\n	<li style="text-align: left\;"><span style="color:#000000\;"><span style="font-size:16px\;"><span style="font-family:arial\;">Premium table of 8</span></span></span></li>\n	<li style="text-align: left\;"><span style="color:#000000\;"><span style="font-size:16px\;"><span style="font-family:arial\;">Recognition on table centerpieces</span></span></span></li>\n	<li style="text-align: left\;"><span style="color:#000000\;"><span style="font-size:16px\;"><span style="font-family:arial\;">EXPO table</span></span></span></li>\n	<li style="text-align: left\;"><span style="color:#000000\;"><span style="font-size:16px\;"><span style="font-family:arial\;">Verbal recognition during session</span></span></span></li>\n	<li style="text-align: left\;"><span style="color:#000000\;"><span style="font-size:16px\;"><span style="font-family:arial\;">Recognition in rolling visual PowerPoint</span></span></span></li>\n</ul>\n\n<div style="text-align: left\;"><span style="font-size:16px\;"><span style="font-family:arial\;"><u font-size:="" style="color: rgb(51\, 51\, 51)\; font-family: sans-serif\, Arial\, Verdana\, " trebuchet=""><strong>Silver Sponsor:</strong>&nbsp\;$1\,000</u></span></span></div>\n\n<ul font-size:="" style="text-align: center\;" trebuchet="">\n	<li style="text-align: left\;"><span style="color:#000000\;"><span style="font-size: 16px\;"><span style="font-family: arial\;">Name recognition on event web page for one year</span></span></span></li>\n	<li style="text-align: left\;"><span style="color:#000000\;"><span style="font-size: 16px\;"><span style="font-family: arial\;">Promotion in all event e-newsletters</span></span></span></li>\n	<li style="text-align: left\;"><span style="color:#000000\;"><span style="font-size: 16px\;"><span style="font-family: arial\;">Recognition in all programs and print materials</span></span></span></li>\n	<li style="text-align: left\;"><span style="color:#000000\;"><span style="font-size: 16px\;"><span style="font-family: arial\;">Premium table of 8</span></span></span></li>\n</ul>\n\n<div style="text-align: left\;">\n<div background-color:="" font-size:="" trebuchet=""><span style="font-size:16px\;"><span style="font-family:arial\;"><u font-size:="" trebuchet=""><strong>Member Expo Booth:</strong>&nbsp\;$250</u></span></span>\n\n<ul>\n	<li><span style="color:#000000\;"><span style="font-size: 16px\;"><span style="font-family: arial\;">1 meal ticket</span></span></span></li>\n</ul>\n</div>\n</div>\n\n<div style="text-align: left\;"><span style="font-size:16px\;"><span style="font-family:arial\;"><u font-size:="" trebuchet=""><strong>Non- Member Expo Booth:</strong>&nbsp\;$650</u></span></span></div>\n\n<ul font-size:="" trebuchet="">\n	<li style="text-align: left\;"><span style="font-size:16px\;"><span style="font-family:arial\;"><span style="color: rgb(0\, 0\, 0)\;">1 meal ticket</span></span></span></li>\n	<li style="text-align: left\;"><span style="color:#000000\;"><span style="font-size: 16px\;"><span style="font-family: arial\;"><span style="font-size: 16px\;"><span style="font-family: arial\;">Includes 1 year membership at the $500 level</span></span></span></span></span></li>\n</ul>\n\n<div style="text-align: left\;"><span style="font-size:16px\;"><span style="font-family:arial\;"><u font-size:="" style="color: rgb(51\, 51\, 51)\; font-family: sans-serif\, Arial\, Verdana\, " trebuchet=""><strong>Individual Member Seat:</strong>&nbsp\;$75</u><br font-size:="" style="color: rgb(51\, 51\, 51)\; font-family: sans-serif\, Arial\, Verdana\, " trebuchet="" />\n<br font-size:="" style="color: rgb(51\, 51\, 51)\; font-family: sans-serif\, Arial\, Verdana\, " trebuchet="" />\n<u font-size:="" style="color: rgb(51\, 51\, 51)\; font-family: sans-serif\, Arial\, Verdana\, " trebuchet=""><span style="line-height: 20.8px\;"><strong>Individual Non-Member Seat:</strong>&nbsp\;$95</span></u></span></span><br />\n<br />\n<span style="font-size:18px\;"><span style="font-stretch:normal\;"><span style="color:#00b5af\;"><strong>COVID POLICY: </strong></span></span>The CDC recommends masks at events for non-vaccinated individuals\, even outdoors. The East End&nbsp\;Chamber highly encourages every eligible individual to be fully vaccinated before attending an in person event. If you are not fully vaccinated\, please continue to wear a mask at all times during the event.<br />\nThank you for helping us stay safe!</span><br />\n<br />\n<br />\n&nbsp\;</div>\n</div>\n
LOCATION:Marriott South Hobby Airport 9100 Gulf Freeway Houston\, TX 77017
UID:e.2026.5072290
SEQUENCE:3
DTSTAMP:20260422T131318Z
URL:http://houstoneastend.smartcms.site/events/details/2021-port-houston-appreciation-luncheon-5072290
END:VEVENT

END:VCALENDAR
