BEGIN:VCALENDAR
VERSION:2.0
PRODID:-//ChamberMaster//Event Calendar 2.0//EN
METHOD:PUBLISH
X-PUBLISHED-TTL:P3D
REFRESH-INTERVAL:P3D
CALSCALE:GREGORIAN
BEGIN:VEVENT
DTSTART;VALUE=DATE:20210108
DTEND;VALUE=DATE:20210109
TRANSP:TRANSPARENT
X-MICROSOFT-CDO-ALLDAYEVENT:TRUE
SUMMARY:2021 Directory
DESCRIPTION:Take Advantage of a Great Opportunity to Place your Business' Ad prominently in our 2021 DIRECTORY!\n\nThis directory is distributed as a valuable resource throughout the year to surrounding East End businesses and Chamber members.\n\nAll ads will be printed in FULL Color\, giving your business an opportunity for more visibility! \n\n\n\n\nAdvertising Rates\n\n \n\n\n	\n		\n			\n			Size/Location\n			\n			Price\n		\n	\n	\n		\n			\n			Back Cover\n			\n			\n			$2\,150.00\n			\n		\n		\n			\n			Inside Cover\n			\n			\n			$2\,000.00\n			\n		\n		\n			\n			Page One\n			\n			\n			$1\,900.00\n			\n		\n		\n			\n			Full Page\n			\n			\n			$1\,600.00\n			\n		\n		\n			\n			1/2 Page\n			\n			\n			$1\,450.00\n			\n		\n		\n			\n			1/4 Page\n			\n			\n			$750\n			\n		\n		\n			\n			1/8 Page\n			\n			\n			$600\n			\n		\n	\n\n\n \n\n\n\n\n\n\n\n\n\n \n\n\n\n\nImportant Dates:\n\nAd Submission Deadline\n\n  Friday\, January 8\, 2021
X-ALT-DESC;FMTTYPE=text/html:<br />\n<span style="font-family:verdana\;"><span style="font-size:20px\;"><span style="color:#00cccc\;"><strong>Take Advantage of a Great Opportunity to Place your Business&#39\; Ad prominently in our <u>2021 DIRECTORY</u>!</strong></span><br />\n<span style="font-size:18px\;">This directory is distributed as a valuable resource throughout the year to surrounding East End businesses and Chamber members.<br />\nAll ads will be printed in FULL Color\, giving your business an opportunity for more visibility!</span>&nbsp\;</span></span>\n<div font-size:="" style="color: rgb(51\, 51\, 51)\; text-align: center\;" text-align:="" trebuchet="">\n<div style="text-align: left\;">\n<hr /><br />\n<span style="font-family:verdana\;"><span style="font-size: 20px\;"><strong><span style="color: rgb(0\, 204\, 204)\;"><u>Advertising Rates</u></span></strong></span></span><br />\n&nbsp\;</div>\n\n<table border="1" cellpadding="1" cellspacing="1" style="width:500px\;">\n	<thead>\n		<tr>\n			<th scope="col" style="height: 20px\;">\n			<div style="text-align: left\;"><u><strong><span style="font-size:14px\;"><span style="font-family:verdana\;">Size/Location</span></span></strong></u></div>\n			</th>\n			<th scope="col" style="height: 20px\; text-align: left\;"><u><strong><span style="font-size:14px\;"><span style="font-family:verdana\;">Price</span></span></strong></u></th>\n		</tr>\n	</thead>\n	<tbody>\n		<tr>\n			<th style="height: 20px\;">\n			<div style="text-align: left\;"><span style="font-size:18px\;"><span style="font-family:verdana\;">Back Cover</span></span></div>\n			</th>\n			<th style="height: 20px\;">\n			<div style="text-align: left\;"><span style="font-size:18px\;"><span style="font-family:verdana\;">$2\,150.00</span></span></div>\n			</th>\n		</tr>\n		<tr>\n			<th style="height: 20px\;">\n			<div style="text-align: left\;"><span style="font-size:18px\;"><span style="font-family:verdana\;">Inside Cover</span></span></div>\n			</th>\n			<th style="height: 20px\;">\n			<div style="text-align: left\;"><span style="font-size:18px\;"><span style="font-family:verdana\;">$2\,000.00</span></span></div>\n			</th>\n		</tr>\n		<tr>\n			<th style="height: 20px\;">\n			<div style="text-align: left\;"><span style="font-size:18px\;"><span style="font-family:verdana\;">Page One</span></span></div>\n			</th>\n			<th style="height: 20px\;">\n			<div style="text-align: left\;"><span style="font-size:18px\;"><span style="font-family:verdana\;">$1\,900.00</span></span></div>\n			</th>\n		</tr>\n		<tr>\n			<th style="height: 20px\;">\n			<div style="text-align: left\;"><span style="font-size:18px\;"><span style="font-family:verdana\;">Full Page</span></span></div>\n			</th>\n			<th style="height: 20px\;">\n			<div style="text-align: left\;"><span style="font-size:18px\;"><span style="font-family:verdana\;">$1\,600.00</span></span></div>\n			</th>\n		</tr>\n		<tr>\n			<th style="height: 20px\;">\n			<div style="text-align: left\;"><span style="font-size:18px\;"><span style="font-family:verdana\;">1/2 Page</span></span></div>\n			</th>\n			<th style="height: 20px\;">\n			<div style="text-align: left\;"><span style="font-size:18px\;"><span style="font-family:verdana\;">$1\,450.00</span></span></div>\n			</th>\n		</tr>\n		<tr>\n			<th style="height: 20px\;">\n			<div style="text-align: left\;"><span style="font-size:18px\;"><span style="font-family:verdana\;">1/4 Page</span></span></div>\n			</th>\n			<th style="height: 20px\;">\n			<div style="text-align: left\;"><span style="font-size:18px\;"><span style="font-family:verdana\;">$750</span></span></div>\n			</th>\n		</tr>\n		<tr>\n			<th style="height: 20px\;">\n			<div style="text-align: left\;"><span style="font-size:18px\;"><span style="font-family:verdana\;">1/8 Page</span></span></div>\n			</th>\n			<th style="height: 20px\;">\n			<div style="text-align: left\;"><span style="font-size:18px\;"><span style="font-family:verdana\;">$600</span></span></div>\n			</th>\n		</tr>\n	</tbody>\n</table>\n\n<div style="text-align: left\;">&nbsp\;</div>\n</div>\n\n<div font-size:="" style="color: rgb(51\, 51\, 51)\; font-family: sans-serif\, Arial\, Verdana\, " trebuchet="">\n<div><br />\n<br />\n<br />\n&nbsp\;</div>\n\n<div>\n<hr /></div>\n\n<div style="margin-left: 40px\; text-align: center\;"><span style="font-size:18px\;"><span style="font-family:verdana\;"><u style="color: rgb(0\, 204\, 204)\; font-size: 20px\; font-family: verdana\; text-align: right\;"><strong>Important Dates:</strong></u></span></span></div>\n\n<div style="margin-left: 40px\; text-align: center\;"><span style="font-size:18px\;"><span style="font-family:verdana\;"><em>Ad Submission Deadline</em><br />\n<span style="background-color: rgb(0\, 204\, 204)\;">&nbsp\; </span></span></span><span style="font-family: verdana\; font-size: 18px\; text-align: center\; background-color: rgb(0\, 204\, 204)\;">Friday\, January 8</span><span style="font-family: verdana\; font-size: 18px\; text-align: center\; background-color: rgb(0\, 204\, 204)\;">\, 2021</span><span style="font-family: verdana\; font-size: 18px\; text-align: center\; background-color: rgb(0\, 204\, 204)\;">&nbsp\;&nbsp\;</span><span style="font-size:18px\;"><span style="font-family:verdana\;"><span style="background-color: rgb(0\, 204\, 204)\;">&nbsp\;&nbsp\;</span></span></span><br />\n&nbsp\;</div>\n</div>\n
LOCATION:
UID:e.2026.5072168
SEQUENCE:3
DTSTAMP:20260423T064424Z
URL:http://houstoneastend.smartcms.site/events/details/2021-directory-5072168
END:VEVENT

END:VCALENDAR
