BEGIN:VCALENDAR
VERSION:2.0
PRODID:-//ChamberMaster//Event Calendar 2.0//EN
METHOD:PUBLISH
X-PUBLISHED-TTL:P3D
REFRESH-INTERVAL:P3D
CALSCALE:GREGORIAN
BEGIN:VEVENT
DTSTART:20201112T170000Z
DTEND:20201112T183000Z
X-MICROSOFT-CDO-ALLDAYEVENT:FALSE
SUMMARY:2020 Port Houston Appreciation Day
DESCRIPTION:Keeping our Global Maritime Highway Moving\n\nTHURSDAY | NOVEMBER 12\, 2020\n\n11:00 AM - 12:30 PM (CST)\n\n\n\nHear from industry leaders that are working to keep our Global Maritime Highway Moving. Port Houston is the largest port in foreign tonnage in the nation\, hear how local and global ports are keep the world economy moving.\n\n\n\nPort Appreciation Co-Chairs:\n\nEloy Cortez\, Vice President\, South Atlantic and Gulf Coast District\, ILA\n\nMargaret A. Kidd\, Program Director\, Supply Chain & Logistics Technology Program\, College of Technology\, University of Houston\n\n\n\nSTATE OF PORTS PANEL: \n\nModerator - Lori Ann LaRocco\, CNBC Senior Editor Guests\, Maritime Trade Columnist Freight Waves \n\n \n\nPanelist - Ric Campo\, Chair Port Commission\, Port Houston\n\n \n\nPanelist - Luis Sola\, United States\, Federal Maritime Commissioner\n\n \n\nPanelist - Lars Martin Greiner\, HPC Hamburg Port Consulting GmbH\n\n \n\nPanelist -  Vinicius Patel\, Port Administration Director\, Porto do A u \n\n \n\nPanelist - Guilherme Caiado\, Port Operations Director\, Porto Sudeste\n\n \n\n\n\n\n\n\n\n\n\nPlatinum Sponsor | $5\,000\n\n\n	Logo recognition with link to website on event web page for 1 year\n	Recognition in event e-blasts\n	Verbal recognition during the virtual event\n	Logo recognition during the virtual event \n	Logo recognition on event flyer\n	Pre-event 30 second Facebook Live ad\n	Day of event 30 second promo ad during event\n\n\nGold Sponsor | $2\,500 \n\n\n	Logo recognition with link to website on event web page for 1 year\n	Recognition in event e-blasts\n	Verbal recognition during the virtual event\n	Logo recognition during the virtual event \n	Logo recognition on event flyer\n	Pre-event 30 second Facebook Live ad\n\n\n \n\nSilver Sponsor | $1\,000\n\n\n	Name recognition with link to website on event web page for 1 year\n	Recognition in event e-blasts\n	Verbal recognition during the virtual event\n\n\nIndividual Sponsor | $100\n\n\n	Name recognition on event web page for 1 year\n	Name recognition on intro slide\, day of event
X-ALT-DESC;FMTTYPE=text/html:<div style="text-align: center\;">\n<div style="caret-color: rgb(64\, 63\, 66)\; color: rgb(64\, 63\, 66)\; font-family: Arial\, Verdana\, Helvetica\, sans-serif\; text-align: left\;">\n<div style="caret-color: rgb(64\, 63\, 66)\; color: rgb(64\, 63\, 66)\; font-family: Arial\, Verdana\, Helvetica\, sans-serif\;"><span style="font-size: 24px\;"><b>Keeping our Global Maritime Highway Moving</b></span></div>\n\n<div style="font-size: 12px\; caret-color: rgb(64\, 63\, 66)\; color: rgb(64\, 63\, 66)\; font-family: Arial\, Verdana\, Helvetica\, sans-serif\;">THURSDAY | NOVEMBER 12\, 2020<br />\n11:00 AM - 12:30 PM (CST)<br />\n<br />\nHear from industry leaders that are working to keep our Global Maritime Highway Moving. Port Houston is the largest port in foreign tonnage in the nation\, hear how local and global ports are keep the world economy moving.<br />\n<br />\n<strong>Port Appreciation Co-Chairs:</strong><br />\n<strong>Eloy Cortez</strong>\, Vice President\, South Atlantic and Gulf Coast District\, ILA<br />\n<strong>Margaret A. Kidd</strong>\, Program Director\, Supply Chain &amp\; Logistics Technology Program\, College of Technology\, University of Houston<br />\n<br />\n<span style="font-size:20px\;"><strong>STATE OF PORTS PANEL:&nbsp\;</strong></span><br />\n<strong>Moderator - Lori Ann LaRocco</strong>\, CNBC Senior Editor Guests\, Maritime Trade Columnist Freight Waves&nbsp\;<br />\n&nbsp\;<br />\n<strong>Panelist - Ric Campo</strong>\, Chair Port Commission\, Port Houston<br />\n&nbsp\;<br />\n<strong>Panelist - Luis Sola</strong>\, United States\, Federal Maritime Commissioner<br />\n&nbsp\;<br />\n<strong>Panelist - Lars Martin Greiner</strong>\, HPC Hamburg Port Consulting GmbH<br />\n&nbsp\;<br />\n<strong>Panelist - </strong><strong>&nbsp\;Vinicius Patel</strong>\, Port Administration Director\, Porto do A&ccedil\;u&nbsp\;<br />\n&nbsp\;<br />\n<strong>Panelist - Guilherme Caiado\, </strong>Port Operations Director\, Porto Sudeste<br />\n&nbsp\;<br />\n<br />\n<br />\n<br />\n<br />\n<span style="font-size:11.0pt\;">Platinum Sponsor | $5\,000</span></div>\n\n<ul style="font-size: 12px\;">\n	<li style="caret-color: rgb(64\, 63\, 66)\; color: rgb(64\, 63\, 66)\; font-family: Arial\, Verdana\, Helvetica\, sans-serif\; font-size: 12px\;"><span style="font-size:9.0pt\;">Logo recognition with link to website on event web page for 1 year</span></li>\n	<li style="caret-color: rgb(64\, 63\, 66)\; color: rgb(64\, 63\, 66)\; font-family: Arial\, Verdana\, Helvetica\, sans-serif\; font-size: 12px\;"><span style="font-size:9.0pt\;"><span style="font-size:9.0pt\;">Recognition in event e-blasts</span></span></li>\n	<li style="caret-color: rgb(64\, 63\, 66)\; color: rgb(64\, 63\, 66)\; font-family: Arial\, Verdana\, Helvetica\, sans-serif\; font-size: 12px\;"><span style="font-size:9.0pt\;">Verbal recognition during the virtual event</span></li>\n	<li style="caret-color: rgb(64\, 63\, 66)\; color: rgb(64\, 63\, 66)\; font-family: Arial\, Verdana\, Helvetica\, sans-serif\; font-size: 12px\;"><span style="font-size:9.0pt\;">Logo recognition during the virtual event </span></li>\n	<li><span style="font-size: 9pt\;">Logo recognition on event flyer</span></li>\n	<li style="caret-color: rgb(64\, 63\, 66)\; color: rgb(64\, 63\, 66)\; font-family: Arial\, Verdana\, Helvetica\, sans-serif\; font-size: 12px\;"><span style="font-size:9.0pt\;">Pre-event 30 second Facebook Live ad</span></li>\n	<li style="caret-color: rgb(64\, 63\, 66)\; color: rgb(64\, 63\, 66)\; font-family: Arial\, Verdana\, Helvetica\, sans-serif\; font-size: 12px\;"><span style="font-size:9.0pt\;">Day of event 30 second promo ad during event</span></li>\n</ul>\n\n<div style="font-size: 12px\; caret-color: rgb(64\, 63\, 66)\; color: rgb(64\, 63\, 66)\; font-family: Arial\, Verdana\, Helvetica\, sans-serif\;"><span style="font-size:11.0pt\;">Gold Sponsor | $2\,500 </span></div>\n\n<ul style="font-size: 12px\;">\n	<li style="caret-color: rgb(64\, 63\, 66)\; color: rgb(64\, 63\, 66)\; font-family: Arial\, Verdana\, Helvetica\, sans-serif\; font-size: 12px\;"><span style="font-size:9.0pt\;">Logo recognition with link to website on event web page for 1 year</span></li>\n	<li style="caret-color: rgb(64\, 63\, 66)\; color: rgb(64\, 63\, 66)\; font-family: Arial\, Verdana\, Helvetica\, sans-serif\; font-size: 12px\;"><span style="font-size:9.0pt\;">Recognition in event e-blasts</span></li>\n	<li style="caret-color: rgb(64\, 63\, 66)\; color: rgb(64\, 63\, 66)\; font-family: Arial\, Verdana\, Helvetica\, sans-serif\; font-size: 12px\;"><span style="font-size:9.0pt\;">Verbal recognition during the virtual event</span></li>\n	<li style="caret-color: rgb(64\, 63\, 66)\; color: rgb(64\, 63\, 66)\; font-family: Arial\, Verdana\, Helvetica\, sans-serif\; font-size: 12px\;"><span style="font-size:9.0pt\;">Logo recognition during the virtual event </span></li>\n	<li><span style="font-size: 9pt\;">Logo recognition on event flyer</span></li>\n	<li style="caret-color: rgb(64\, 63\, 66)\; color: rgb(64\, 63\, 66)\; font-family: Arial\, Verdana\, Helvetica\, sans-serif\; font-size: 12px\;"><span style="font-size:9.0pt\;">Pre-event 30 second Facebook Live ad</span></li>\n</ul>\n\n<div style="font-size: 12px\; caret-color: rgb(64\, 63\, 66)\; color: rgb(64\, 63\, 66)\; font-family: Arial\, Verdana\, Helvetica\, sans-serif\;">&nbsp\;<br />\n<span style="font-size:10.0pt\;">Silver Sponsor | $1\,000</span></div>\n\n<ul style="font-size: 12px\;">\n	<li style="caret-color: rgb(64\, 63\, 66)\; color: rgb(64\, 63\, 66)\; font-family: Arial\, Verdana\, Helvetica\, sans-serif\; font-size: 12px\;"><span style="font-size:9.0pt\;">Name recognition with link to website on event web page for 1 year</span></li>\n	<li style="caret-color: rgb(64\, 63\, 66)\; color: rgb(64\, 63\, 66)\; font-family: Arial\, Verdana\, Helvetica\, sans-serif\; font-size: 12px\;"><span style="font-size:9.0pt\;">Recognition in event e-blasts</span></li>\n	<li style="caret-color: rgb(64\, 63\, 66)\; color: rgb(64\, 63\, 66)\; font-family: Arial\, Verdana\, Helvetica\, sans-serif\; font-size: 12px\;"><span style="font-size:9.0pt\;">Verbal recognition during the virtual event</span></li>\n</ul>\n\n<div style="caret-color: rgb(64\, 63\, 66)\; color: rgb(64\, 63\, 66)\; font-family: Arial\, Verdana\, Helvetica\, sans-serif\;"><span style="font-size: 12px\;">Individual&nbsp\;</span><span style="font-size: 10pt\;">Sponsor | $100</span>\n\n<ul style="font-size: 12px\; color: rgb(64\, 63\, 66)\; font-family: Arial\, Verdana\, Helvetica\, sans-serif\; caret-color: rgb(64\, 63\, 66)\;">\n	<li><span style="font-size: 9pt\;">Name recognition on&nbsp\;event web page for 1 year</span></li>\n	<li><span style="font-size: 9pt\;">Name recognition on intro slide\, day of event</span></li>\n</ul>\n<br />\n<span style="font-size: 12px\; font-family: arial\;"><span style="font-size: 18px\;">&nbsp\;</span></span></div>\n</div>\n</div>\n
LOCATION:VIRTUAL BROADCAST* *Due to COVID-19\, this event will be broadcast online. All registrants will receive instructions on accessing the broadcast via email on the event date. Please be sure to add diana@eecoc.org to your approved senders list to ensure you receive information regarding the event.
UID:e.2026.5072019
SEQUENCE:3
DTSTAMP:20260423T123718Z
URL:http://houstoneastend.smartcms.site/events/details/2020-port-houston-appreciation-day-5072019
END:VEVENT

END:VCALENDAR
