BEGIN:VCALENDAR
VERSION:2.0
PRODID:-//ChamberMaster//Event Calendar 2.0//EN
METHOD:PUBLISH
X-PUBLISHED-TTL:P3D
REFRESH-INTERVAL:P3D
CALSCALE:GREGORIAN
BEGIN:VEVENT
DTSTART:20191114T140000Z
DTEND:20191114T193000Z
X-MICROSOFT-CDO-ALLDAYEVENT:FALSE
SUMMARY:2019 East End Means Business: Connecting and Growing Businesses Through Knowledge & Procurement
DESCRIPTION:Join us for our East End Means Business \n\nConnecting and Growing Businesses through Knowledge and Procurement \n\n \n\n \n\nProgram Schedule\n\n7:00am - 7:45am Registration \n\n8:00am - 9:00am - Breakfast Procurement Panel\n\nHear from experts on how to connect grow and strengthen your opportunities\n\nGilda Ramirez\, Port Houston\n\nJose Luis Jimenez\, City of Houston\, O.B.O.\n\nAlexander Sandoval\, Metro\n\nJose Jimenez\, Harris County Precinct 2\n\nTim Henry\, University of Houston\, Purchasing Department\n\n9:30am - 10:30am - Breakout Session A\n\nHow to Create an Effective 2020 Marketing Plan\n\n Leah Faul\, 15000 Cubits\n\n\n11:00am - 12:00pm - Breakout Session B\n\nInvesting in Yourself to See Greater Fruit in Your Business\n\nAngela Britt\, Entre Results\n\nCorey Harlock\, Key Hire\n\n12:30pm - 1:30pm - Luncheon Entrepreneur Panel\n\nHear from Entrepreneurs on how they started their businesses\, hardships of growing their businesses and the lessons learned.\n\nPat Studdert\, Buffalo Marine Service\, Inc \n\nCarlos deAldecoa Bueno\, Giant Bourbon / Aldecoa Coffee \n\nDr. Kathy Palmer\, Gulfgate Animal Hospital\n\nRebecca Roberts\, All Points Warehouse\, Inc\n\n\n1:30pm - 2:00pm - Networking \n\n \n\n\nExpo Booths will be on hand from an array of companies with various products and services to help your business. \n\n\n\nFree to attend\; registration required\n\n\np.p1 {margin: 0.0px 0.0px 0.0px 0.0px\; font: 12.0px Helvetica\; color: #46f9af}\np.p2 {margin: 0.0px 0.0px 0.0px 0.0px\; font: 12.0px Times}\np.p3 {margin: 0.0px 0.0px 0.0px 0.0px\; font: 12.0px Helvetica\; color: #ffffff}\np.p4 {margin: 0.0px 0.0px 0.0px 0.0px\; font: 10.0px Helvetica}\np.p5 {margin: 0.0px 0.0px 0.0px 0.0px\; font: 11.0px Times}\n\n\n\n \n\nExpo Booth: $175\n\n \n\nSilver Sponsor | $650\n\nName recognition on event web page for 1 year\n\nPromotion in all event e-newsletters\n\nRecognition in all print materials\n\nQuarter page ad (2.375 x 3.875?) in program\n\nSeating for breakfast\n\nReserved Seating for 8\n\n \n\nGold Sponsor | $2\,500\n\nLogo recognition on event web page for 1 year\n\nPromotion in all event e-newsletters\n\nRecognition in all print materials\n\nHalf page ad (5? x 3.875?) in program\n\nPremium seating for breakfast\n\nPremium seating for lunch\n\n \n\nPlatinum Sponsor | $5\,000\n\nLogo recognition on event web page for 1 year\n\nPromotion in all event e-newsletters\n\nRecognition in all print materials\n\nFull page ad (5? x 8?) in program\n\nPremium seating for breakfast\n\nPremium seating for lunch\n\nPremium EXPO table\n\nVerbal recognition through the entire event\n\nRecognition in rolling PowerPoint\n\n\n\n\n\nDeadline to register: November 12\, 2019 @ noon. Reservations require a 48 hour cancellation notice. No refunds will be issued.\n\nMake checks payable to: Houston East End Chamber of Commerce\, 5800 Clinton Drive Houston\, TX 77020\n\nCall in payments at 713-926-3305\n\nClick the form to download and email to frontdesk@eecoc.org. \n\n\n\n\n\n\n\n\n\n \n\n\n\np.p1 {margin: 0.0px 0.0px 0.0px 0.0px\; font: 12.0px Times}
X-ALT-DESC;FMTTYPE=text/html:<div style="color: rgb(64\, 63\, 66)\; font-family: Arial\, Verdana\, Helvetica\, sans-serif\; font-size: 12px\; white-space: pre-wrap\; text-align: center\;"><span style="color:#696969\;"><span style="font-family:tahoma\;"><span style="font-size: 24px\;">Join us for our East End Means Business&nbsp\;</span></span></span></div>\n\n<div style="color: rgb(64\, 63\, 66)\; font-family: Arial\, Verdana\, Helvetica\, sans-serif\; font-size: 12px\; white-space: pre-wrap\; text-align: center\;"><span style="color:#696969\;"><span style="font-family:tahoma\;"><span style="font-size: 16px\;">Connecting and Growing Businesses through Knowledge and Procurement&nbsp\;</span></span></span><br />\n&nbsp\;</div>\n\n<div style="color: rgb(64\, 63\, 66)\; font-family: Arial\, Verdana\, Helvetica\, sans-serif\; font-size: 12px\; white-space: pre-wrap\;">&nbsp\;</div>\n\n<div style="color: rgb(64\, 63\, 66)\; font-family: Arial\, Verdana\, Helvetica\, sans-serif\; font-size: 12px\; white-space: pre-wrap\;"><span style="color:#696969\;"><span style="font-family:tahoma\;"><span style="font-size: 24px\;">Program Schedule</span></span></span></div>\n\n<p style="color: rgb(64\, 63\, 66)\; font-family: Arial\, Verdana\, Helvetica\, sans-serif\; font-size: 12px\; white-space: pre-wrap\;"><small><big><span style="color:#696969\;"><span style="font-family:tahoma\;"><span style="font-size: 16px\; font-weight: bold\;">7:00am - 7:45am</span><span style="font-size: 16px\;"> Registration&nbsp\;</span></span></span></big></small><br />\n<small><big><span style="color:#696969\;"><span style="font-family:tahoma\;"><span style="font-size: 16px\; font-weight: bold\;">8:00am - 9:00am</span><span style="font-size: 16px\;"> -&nbsp\;Breakfast Procurement Panel</span></span></span></big></small><br />\n<small><big><strong><span style="color:#696969\;"><span style="font-family:tahoma\;"><span style="font-size: 16px\;">Hear from experts on how to connect grow and strengthen your </span></span></span><span style="color:#696969\;"><span style="font-family:tahoma\;"><span style="font-size: 16px\;">opportunities</span></span></span></strong></big></small><br />\n<span style="color:#000080\;"><span style="font-size:14px\;"><span style="font-family:arial\;">Gilda Ramirez\, <b>Port Houston</b></span></span><br />\n<span style="font-size:14px\;"><span style="font-family:arial\;">Jose Luis Jimenez\, <b>City of Houston\, O.B.O.</b></span></span><br />\n<span style="font-size:14px\;"><span style="font-family:arial\;">Alexander Sandoval\, <b>Metro</b></span></span><br />\n<span style="font-size:14px\;"><span style="font-family:arial\;">Jose Jimenez\, <b>Harris County Precinct 2</b></span></span><br />\n<span style="font-size:14px\;"><span style="font-family:arial\;">Tim Henry\, <b>University of Houston\, Purchasing Department</b></span></span></span></p>\n\n<p style="color: rgb(64\, 63\, 66)\; font-family: Arial\, Verdana\, Helvetica\, sans-serif\; font-size: 12px\; white-space: pre-wrap\;"><small><big><span style="color:#696969\;"><span style="font-family:tahoma\;"><span style="font-size: 16px\; font-weight: bold\;">9:30am - 10:30am - </span><span style="font-size: 16px\;">Breakout Session A</span></span></span></big></small><br />\n<small><big><span style="color:#696969\;"><span style="font-size:16px\;"><span style="font-family:arial\;"><span style="caret-color: rgb(0\, 0\, 0)\;"><strong>How to Create an Effective 2020 Marketing Plan</strong></span></span></span></span></big></small><br />\n<span style="color:#000080\;"><span style="font-size:14px\;"><span style="font-family:arial\;"><span style="font-stretch: normal\; line-height: normal\;">&nbsp\;</span>Leah Faul\, <b>15000 Cubits</b></span></span></span></p>\n\n<div style="color: rgb(64\, 63\, 66)\; font-family: Arial\, Verdana\, Helvetica\, sans-serif\; font-size: 12px\; white-space: pre-wrap\;">\n<p><small><big><span style="color:#696969\;"><span style="font-family:tahoma\;"><span style="font-size: 16px\; font-weight: bold\;">11:00am - 12:00pm</span><span style="font-size: 16px\;"> - </span></span></span><span style="color: rgb(105\, 105\, 105)\; font-family: tahoma\; font-size: 16px\; white-space: pre-wrap\;">Breakout Session B</span></big></small><br />\n<small><big><strong><span style="font-family:arial\;"><span style="font-size:16px\;"><span style="color:#696969\;"><span style="caret-color: rgb(0\, 0\, 0)\;">Investing in Yourself to See Greater Fruit in Your Business</span></span></span></span></strong></big></small><br />\n<span style="color:#000080\;"><span style="font-size:14px\;"><span style="font-family:arial\;">Angela Britt\, <b>Entre Results</b></span></span><br />\n<span style="font-size:14px\;"><span style="font-family:arial\;">Corey Harlock\, <b>Key Hire</b></span></span></span></p>\n\n<p style="color: rgb(64\, 63\, 66)\; font-family: Arial\, Verdana\, Helvetica\, sans-serif\; font-size: 12px\; white-space: pre-wrap\;"><small><big><span style="color: rgb(105\, 105\, 105)\;"><span style="font-family: tahoma\;"><span style="font-size: 16px\; font-weight: bold\;">12:30pm - 1:30pm - </span></span></span><span style="color: rgb(105\, 105\, 105)\; font-family: tahoma\; font-size: 16px\; white-space: pre-wrap\;">Luncheon&nbsp\;Entrepreneur Panel</span></big></small><br />\n<small><big><strong><span style="color:#696969\;"><span style="font-family:tahoma\;"><span style="font-size: 16px\;">Hear from Entrepreneurs on how they started their businesses\, </span></span></span><span style="color:#696969\;"><span style="font-family:tahoma\;"><span style="font-size: 16px\;">hardships of growing their businesses and the lessons learned.</span></span></span></strong></big></small><br />\n<span style="color:#000080\;"><span style="font-size:14px\;"><span style="font-family:arial\;">Pat Studdert\, <b>Buffalo Marine Service\, Inc&nbsp\;</b></span></span><br />\n<span style="font-size:14px\;"><span style="font-family:arial\;">Carlos deAldecoa Bueno\, <b>Giant Bourbon / Aldecoa Coffee&nbsp\;</b></span></span><br />\n<span style="font-size:14px\;"><span style="font-family:arial\;">Dr. Kathy Palmer\, <b>Gulfgate Animal Hospital</b></span></span><br />\n<span style="font-size:14px\;"><span style="font-family:arial\;">Rebecca Roberts\, <b>All Points Warehouse\, Inc</b></span></span></span></p>\n</div>\n\n<p style="color: rgb(64\, 63\, 66)\; font-family: Arial\, Verdana\, Helvetica\, sans-serif\; font-size: 12px\; white-space: pre-wrap\;"><small><big><span style="color:#696969\;"><span style="font-family:tahoma\;"><span style="font-size: 16px\; font-weight: bold\;">1:30pm - 2:00pm - </span><span style="font-size: 16px\;">Networking&nbsp\;</span></span></span></big></small></p>\n\n<p>&nbsp\;</p>\n\n<div style="margin: 0px\; padding: 0px\; border: 0px\; font-family: inherit\; vertical-align: baseline\;">\n<p><span style="color:#696969\;"><span style="font-family:tahoma\;"><span style="font-size:14px\;">Expo Booths will be on hand from an array of companies with various products and services to help your business.&nbsp\;</span></span></span></p>\n\n<p class="p2"><br />\n<strong><span style="color: rgb(105\, 105\, 105)\;"><span style="font-family: tahoma\;"><span style="font-size: 16px\;">Free to attend\; registration required</span></span></span></strong></p>\n\n<p>\n<style type="text/css">p.p1 {margin: 0.0px 0.0px 0.0px 0.0px\; font: 12.0px Helvetica\; color: #46f9af}\np.p2 {margin: 0.0px 0.0px 0.0px 0.0px\; font: 12.0px Times}\np.p3 {margin: 0.0px 0.0px 0.0px 0.0px\; font: 12.0px Helvetica\; color: #ffffff}\np.p4 {margin: 0.0px 0.0px 0.0px 0.0px\; font: 10.0px Helvetica}\np.p5 {margin: 0.0px 0.0px 0.0px 0.0px\; font: 11.0px Times}\n</style>\n</p>\n\n<p class="p1">&nbsp\;</p>\n\n<p class="p1"><span style="color: rgb(105\, 105\, 105)\;"><span style="font-family: tahoma\;"><strong><span style="font-size: 16px\;">Expo Booth: $175</span></strong></span></span></p>\n\n<p class="p2">&nbsp\;</p>\n\n<p class="p1"><span style="color:#696969\;"><span style="font-family:tahoma\;"><strong><span style="font-size:16px\;">Silver Sponsor | $650</span></strong></span></span></p>\n\n<p class="p2"><span style="color:#696969\;"><span style="font-family:tahoma\;"><span style="font-size:16px\;">Name recognition on event web page for 1 year</span></span></span></p>\n\n<p class="p2"><span style="color:#696969\;"><span style="font-family:tahoma\;"><span style="font-size:16px\;">Promotion in all event e-newsletters</span></span></span></p>\n\n<p class="p2"><span style="color:#696969\;"><span style="font-family:tahoma\;"><span style="font-size:16px\;">Recognition in all print materials</span></span></span></p>\n\n<p class="p2"><span style="color:#696969\;"><span style="font-family:tahoma\;"><span style="font-size:16px\;">Quarter page ad (2.375 x 3.875?) in program</span></span></span></p>\n\n<p class="p2"><span style="color:#696969\;"><span style="font-family:tahoma\;"><span style="font-size:16px\;">Seating for breakfast</span></span></span></p>\n\n<p class="p2"><span style="color:#696969\;"><span style="font-family:tahoma\;"><span style="font-size:16px\;">Reserved Seating for 8</span></span></span><br />\n&nbsp\;</p>\n\n<p class="p1"><span style="color: rgb(105\, 105\, 105)\;"><span style="font-family: tahoma\;"><strong><span style="font-size: 16px\;">Gold Sponsor | $2\,500</span></strong></span></span></p>\n\n<p class="p2"><span style="color: rgb(105\, 105\, 105)\;"><span style="font-family: tahoma\;"><span style="font-size: 16px\;">Logo recognition on event web page for 1 year</span></span></span></p>\n\n<p class="p2"><span style="color: rgb(105\, 105\, 105)\;"><span style="font-family: tahoma\;"><span style="font-size: 16px\;">Promotion in all event e-newsletters</span></span></span></p>\n\n<p class="p2"><span style="color: rgb(105\, 105\, 105)\;"><span style="font-family: tahoma\;"><span style="font-size: 16px\;">Recognition in all print materials</span></span></span></p>\n\n<p class="p2"><span style="color: rgb(105\, 105\, 105)\;"><span style="font-family: tahoma\;"><span style="font-size: 16px\;">Half page ad (5? x 3.875?) in program</span></span></span></p>\n\n<p class="p2"><span style="color: rgb(105\, 105\, 105)\;"><span style="font-family: tahoma\;"><span style="font-size: 16px\;">Premium seating for breakfast</span></span></span></p>\n\n<p class="p2"><span style="color: rgb(105\, 105\, 105)\;"><span style="font-family: tahoma\;"><span style="font-size: 16px\;">Premium seating for lunch</span></span></span><br />\n&nbsp\;</p>\n\n<p class="p1"><span style="color: rgb(105\, 105\, 105)\;"><span style="font-family: tahoma\;"><strong><span style="font-size: 16px\;">Platinum Sponsor | $5\,000</span></strong></span></span></p>\n\n<p class="p2"><span style="color: rgb(105\, 105\, 105)\;"><span style="font-family: tahoma\;"><span style="font-size: 16px\;">Logo recognition on event web page for 1 year</span></span></span></p>\n\n<p class="p2"><span style="color: rgb(105\, 105\, 105)\;"><span style="font-family: tahoma\;"><span style="font-size: 16px\;">Promotion in all event e-newsletters</span></span></span></p>\n\n<p class="p2"><span style="color: rgb(105\, 105\, 105)\;"><span style="font-family: tahoma\;"><span style="font-size: 16px\;">Recognition in all print materials</span></span></span></p>\n\n<p class="p2"><span style="color: rgb(105\, 105\, 105)\;"><span style="font-family: tahoma\;"><span style="font-size: 16px\;">Full page ad (5? x 8?) in program</span></span></span></p>\n\n<p class="p2"><span style="color: rgb(105\, 105\, 105)\;"><span style="font-family: tahoma\;"><span style="font-size: 16px\;">Premium seating for breakfast</span></span></span></p>\n\n<p class="p2"><span style="color: rgb(105\, 105\, 105)\;"><span style="font-family: tahoma\;"><span style="font-size: 16px\;">Premium seating for lunch</span></span></span></p>\n\n<p class="p2"><span style="color: rgb(105\, 105\, 105)\;"><span style="font-family: tahoma\;"><span style="font-size: 16px\;">Premium EXPO table</span></span></span></p>\n\n<p class="p2"><span style="color: rgb(105\, 105\, 105)\;"><span style="font-family: tahoma\;"><span style="font-size: 16px\;">Verbal recognition through the entire event</span></span></span></p>\n\n<p class="p2"><span style="color: rgb(105\, 105\, 105)\;"><span style="font-family: tahoma\;"><span style="font-size: 16px\;">Recognition in rolling PowerPoint</span></span></span></p>\n\n<p class="p2"><br />\n<br />\n<span style="color:#696969\;"><span style="font-family:tahoma\;"><span style="font-size:16px\;">Deadline to register: November 12\, 2019 @ noon.&nbsp\;</span></span></span><span style="color:#696969\;"><span style="font-family:tahoma\;"><span style="font-size:16px\;">Reservations require a 48 hour cancellation&nbsp\;</span></span></span><span style="color:#696969\;"><span style="font-family:tahoma\;"><span style="font-size:16px\;">notice. No refunds will be issued.</span></span></span><br />\n<span style="color:#696969\;"><span style="font-family:tahoma\;"><span style="font-size:16px\;">Make checks payable to: Houston East End&nbsp\;</span></span></span><span style="color:#696969\;"><span style="font-family:tahoma\;"><span style="font-size:16px\;">Chamber of Commerce\, 5800 Clinton Drive Houston\, TX 77020</span></span></span><br />\n<span style="color:#696969\;"><span style="font-family:tahoma\;"><span style="font-size:16px\;">Call in payments at 713-926-3305<br />\nClick the form to download and email</span></span></span><span style="font-family: Times\; font-size: 11px\; color: rgb(105\, 105\, 105)\;"><span style="font-family: tahoma\;"><span style="font-size: 16px\;">&nbsp\;to&nbsp\;</span></span></span><span style="font-family: Times\; font-size: 11px\; color: rgb(105\, 105\, 105)\;"><span style="font-family: tahoma\;"><span style="font-size: 16px\;">frontdesk@eecoc.org.&nbsp\;</span></span></span><br />\n<br />\n<br />\n<br />\n<br />\n&nbsp\;</p>\n</div>\n\n<p>\n<style type="text/css">p.p1 {margin: 0.0px 0.0px 0.0px 0.0px\; font: 12.0px Times}\n</style>\n</p>\n
LOCATION:Amegy Bank Tower 1717 West Loop S\, Houston\, TX 77054
UID:e.2026.5071611
SEQUENCE:3
DTSTAMP:20260424T063352Z
URL:http://houstoneastend.smartcms.site/events/details/2019-east-end-means-business-connecting-and-growing-businesses-through-knowledge-procurement-5071611
END:VEVENT

END:VCALENDAR
