BEGIN:VCALENDAR
VERSION:2.0
PRODID:-//ChamberMaster//Event Calendar 2.0//EN
METHOD:PUBLISH
X-PUBLISHED-TTL:P3D
REFRESH-INTERVAL:P3D
CALSCALE:GREGORIAN
BEGIN:VEVENT
DTSTART:20180326T170000Z
DTEND:20180327T000000Z
X-MICROSOFT-CDO-ALLDAYEVENT:FALSE
SUMMARY:2018 Scholarship Golf Tournament
DESCRIPTION:n behalf of Andrew Arizpe at Cadence Bank\, our Golf Tournament Chair\, we invite you to participate in our 2018 Scholarship Golf Tournament on Monday\, March 26\, 2018 at Northgate Country Club\, with a shotgun start at 12 noon. \n\n\n\nOur 2018 Honoree is Congressman Gene Green. Past honorees include the late Steve Stewart\, Gulf Winds International\; Fred Newhouse\, formerly of Valero Houston Refinery\; Commissioner Clyde Fitzgerald\, ILA ? South Atlantic & Gulf Coast District\; Captain Robert Thompson\, Houston Pilots Association\; Senator Sylvia R. Garcia\; Commissioner Dean E. Corgey\; Bill Garcia of Garcia Realty and John Taylor of Houston Mooring Company.  We will present a scholarship in Congressman Green's honor at the awards dinner to a deserving student. Your support will help us achieve our goal and help students through our Education Foundation.  \n\nRegistration deadline: Thursday\, March 22\, 2018.\n\nReservations require a 24 hour cancelation notice to avoid charges. \n\n\n\nPrint deadline: for all materials Friday\, March 16\, 2018\n\n\n\nIf you are interested in donating to the Silent Auction\, please contact events@eecoc.org \n\n\n         \n\n   All player packages include Box Lunch\, Awards Dinner and a Goodie Bag.\n\n \n$5\,000 Presenting Sponsor \n\n\n	Logo on golf shirt sleeve\n	1 (one) foursome playing in tournament\n	Logo listing as Sponsor in all marketing\n	Corporate banner displayed at registration (company provided)\n	Full page ad in event program\n	Featured on first & tenth hole tee sponsor\n	Includes lunch\, on-course beverages\, dinner\,  access to auction\, raffle and verbal recognition during awards presentation\n\n$2\,000 Lunch Sponsor \n\n\n	1 (one) foursome playing in tournament\n	Logo listing as Sponsor in all marketing\n	Corporate banner displayed in lunch area (company provided)\n	Half page ad in event program\n	Featured on hole sign and program\n	Includes lunch\, on-course beverages\,dinner\, access to auction\, raffle & awards presentation\n\n\n$2\,000 On-Course Beverage Sponsor\n\n\n	1 (one) foursome playing in tournament\n	Logo listing as Sponsor in all marketing \n	Corporate signage displayed at 2 (two) designated beverage areas on the course \n	Half page ad in event program\n	Featured on hole sign and program\n	Includes lunch\, on-course beverages\,dinner\, access to auction\, raffle & awards presentation\n\n $2\,000 Dinner & Cocktail Hour Sponsor \n\n\n	1 (one) foursome playing in tournament\n	Logo listing as Sponsor in all marketing\n	Corporate banner displayed in banquet area (company provided)\n	Half page ad in event program\n	Featured on hole sign and program\n	Includes lunch\, on-course beverages\,dinner\, access to auction\, raffle & awards presentation\n\n $1\,500 Golf Towel Sponsor \n\n\n	Name listing as Sponsor in program\n\n$1\,500 Closest to the Pin Sponsor \n\n\n	Name listing as Sponsor in program\n\n$1\,000 Ball Sponsor \n\n\n	Name listing as Sponsor in program\n\n$1\,250 Birdie Sponsor\n\n\n	1 (one) foursome playing in tournament\n	Name listing as Sponsor in program\n	Tee sponsor\n\n $500 Tent Sponsorship\n\n\n	Bring your tent and promotional items to promote your business on course\n\n $250 Individual Player Package\n\n\n	Single player entry\n	Player Packages include Box Lunch\; Awards Dinner\; Goodie Bag\; Beverages on Course\, etc\n\n\n$100 Tee Sponsor \n\nExcluding 1st and 10th tee\n\n \n\n\nRaffle Tickets\n\n\n\nUnited Airlines Tickets \n\n(2) Coach Class cabin tickets valid in US 48\, Alaska\, Canada\, Caribbean\, Mexico and Central America.\n\nPackage valued at $1\,300.00\n\n(Term and conditions may apply)\n\n\n\nYETI Cooler\n\nAlways have ice cold drinks with the Yeti Tundra 45 cooler that holds 28 cans. Guaranteed to never leak!!!\n\nPackage valued at $350.00\n\nDonated by Gateway Ace Hardware\n\n\n\nSeaside Vacation\n\nHome Weekend Stay\n\nTwo Day - Getaway in Seaside\, TX\n\nTwo night stay in a two bedroom condo that sleeps 4-5. Close to beach\, restaurants and fun!!!\n\nDates are mutually agreed upon.\n\n\n\n\n\n1 Raffle Ticket $5.00\n\n5 Raffle Tickets $20.00\n\n15 Raffle Tickets $50.00\n\n35 Raffle Tickets $100.00\n\nTiger/Mulligan $30.00 each or $50.00 for both\n\nBuy Now
X-ALT-DESC;FMTTYPE=text/html:<span style="font-size:12px\;"><span style="font-family:arial\;"><span style="font-size:14px\;">n behalf of Andrew Arizpe at Cadence Bank\, our Golf Tournament Chair\, we invite you to participate in our <strong>2018 Scholarship Golf Tournament on Monday\, March 26\, 2018 at Northgate Country Club</strong>\,&nbsp\;with a shotgun start at 12 noon.&nbsp\;</span><br />\n<br />\n<span style="font-size:14px\;">Our <strong>2018 Honoree is Congressman Gene Green.</strong>&nbsp\;Past honorees include the late Steve Stewart\, Gulf Winds International\; Fred Newhouse\, formerly of Valero Houston Refinery\; Commissioner Clyde Fitzgerald\, ILA ? South Atlantic &amp\; Gulf Coast District\; Captain Robert Thompson\, Houston Pilots Association\; Senator Sylvia R. Garcia\; Commissioner Dean E. Corgey\; Bill Garcia of Garcia Realty and John Taylor of Houston Mooring Company. &nbsp\;We will present a scholarship in Congressman Green&#39\;s&nbsp\;honor at the awards dinner to a deserving student. Your support will help us achieve our goal and help students through our Education Foundation. &nbsp\;</span></span></span>\n<hr />\n<p font-size:="" style="color: rgb(51\, 51\, 51)\;" trebuchet=""><u style="color: rgb(51\, 51\, 51)\; font-family: arial\; font-size: 14px\; background-color: rgb(255\, 255\, 255)\;"><strong>Registration deadline:</strong></u><span style="font-size:12px\;"><span style="font-family:arial\;"><span style="text-align: center\;">&nbsp\;</span><span style="font-size:14px\;"><span style="text-align: center\;">Thursday\, March 22\, 2018.</span></span></span></span></p>\n\n<p font-size:="" style="color: rgb(51\, 51\, 51)\;" trebuchet=""><span style="font-size:12px\;"><span style="font-family:arial\;"><span style="text-align: center\;"><span style="font-size:14px\;">Reservations&nbsp\;require a&nbsp\;<span style="color:#FF0000\;"><em>24 hour cancelation notice</em>&nbsp\;</span>to avoid charges.</span>&nbsp\;</span></span></span><br />\n<br />\n<span style="font-size:14px\;"><span style="font-family:arial\;"><u><strong>Print deadline:</strong></u>&nbsp\;for all materials Friday\, March 16\, 2018</span></span><br />\n<br />\n<span style="font-size:14px\;"><span style="font-family:arial\;">If you are interested in donating to the <strong><u>Silent Auction</u></strong>\, please contact events@eecoc.org</span></span>&nbsp\;</p>\n\n<hr />\n<div style="text-align: center\;">&nbsp\;&nbsp\;&nbsp\;&nbsp\;&nbsp\;<span style="font-size:14px\;">&nbsp\;&nbsp\;&nbsp\;&nbsp\;<br />\n&nbsp\;&nbsp\;&nbsp\;<span style="font-family:arial\;">All player packages include Box Lunch\, Awards Dinner and a Goodie Bag.</span></span><br />\n&nbsp\;</div>\n<strong><span style="font-size:14px\;"><u font-size:="" style="color: rgb(51\, 51\, 51)\; font-family: sans-serif\, Arial\, Verdana\, " trebuchet="">$5\,000 Presenting Sponsor&nbsp\;</u></span></strong>\n\n<ul font-size:="" style="padding: 0px 40px\; color: rgb(51\, 51\, 51)\; font-family: sans-serif\, Arial\, Verdana\, " trebuchet="">\n	<li><span style="font-size:14px\;">Logo on golf shirt sleeve</span></li>\n	<li><span style="font-size:14px\;">1 (one) foursome playing in tournament</span></li>\n	<li><span style="font-size:14px\;">Logo listing as Sponsor in all marketing</span></li>\n	<li><span style="font-size:14px\;">Corporate banner displayed at registration (company provided)</span></li>\n	<li><span style="font-size:14px\;">Full page ad in event program</span></li>\n	<li><span style="font-size:14px\;">Featured on first &amp\; tenth hole tee sponsor</span></li>\n	<li><span style="font-size:14px\;">Includes lunch\, on-course beverages\, dinner\,&nbsp\; access to auction\, raffle and verbal recognition during awards presentation</span></li>\n</ul>\n<strong><span style="font-size:14px\;"><u font-size:="" style="color: rgb(51\, 51\, 51)\; font-family: sans-serif\, Arial\, Verdana\, " trebuchet="">$2\,000 Lunch Sponsor&nbsp\;</u></span></strong>\n\n<ul font-size:="" style="padding: 0px 40px\; color: rgb(51\, 51\, 51)\; font-family: sans-serif\, Arial\, Verdana\, " trebuchet="">\n	<li><span style="font-size:14px\;">1 (one) foursome playing in tournament</span></li>\n	<li><span style="font-size:14px\;">Logo listing as Sponsor in all marketing</span></li>\n	<li><span style="font-size:14px\;">Corporate banner displayed in lunch area (company provided)</span></li>\n	<li><span style="font-size:14px\;">Half page ad in event program</span></li>\n	<li><span style="font-size:14px\;">Featured on hole sign and program</span></li>\n	<li><span style="font-size:14px\;">Includes lunch\, on-course beverages\,dinner\, access to auction\, raffle &amp\; awards presentation</span></li>\n</ul>\n\n<div font-size:="" style="color: rgb(51\, 51\, 51)\; font-family: sans-serif\, Arial\, Verdana\, " trebuchet=""><strong><span style="font-size:14px\;"><u>$2\,000 On-Course Beverage Sponsor</u></span></strong>\n\n<ul style="padding: 0px 40px\;">\n	<li><span style="font-size:14px\;">1 (one) foursome playing in tournament</span></li>\n	<li><span style="font-size:14px\;">Logo listing as Sponsor in all marketing&nbsp\;</span></li>\n	<li><span style="font-size:14px\;">Corporate signage displayed at 2 (two) designated beverage areas on the course&nbsp\;</span></li>\n	<li><span style="font-size:14px\;">Half page ad in event program</span></li>\n	<li><span style="font-size:14px\;">Featured on hole sign and program</span></li>\n	<li><span style="font-size:14px\;">Includes lunch\, on-course beverages\,dinner\, access to auction\, raffle &amp\; awards presentation</span></li>\n</ul>\n<strong><span style="font-size:14px\;"> <u>$2\,000 Dinner &amp\; Cocktail Hour Sponsor&nbsp\;</u></span></strong></div>\n\n<ul font-size:="" style="padding: 0px 40px\; color: rgb(51\, 51\, 51)\; font-family: sans-serif\, Arial\, Verdana\, " trebuchet="">\n	<li><span style="font-size:14px\;">1 (one) foursome playing in tournament</span></li>\n	<li><span style="font-size:14px\;">Logo listing as Sponsor in all marketing</span></li>\n	<li><span style="font-size:14px\;">Corporate banner displayed in banquet area (company provided)</span></li>\n	<li><span style="font-size:14px\;">Half page ad in event program</span></li>\n	<li><span style="font-size:14px\;">Featured on hole sign and program</span></li>\n	<li><span style="font-size:14px\;">Includes lunch\, on-course beverages\,dinner\, access to auction\, raffle &amp\; awards presentation</span></li>\n</ul>\n<strong><span style="font-size:14px\;"> <u font-size:="" style="color: rgb(51\, 51\, 51)\; font-family: sans-serif\, Arial\, Verdana\, " trebuchet="">$1\,500 Golf Towel Sponsor&nbsp\;</u></span></strong>\n\n<ul font-size:="" style="padding: 0px 40px\; color: rgb(51\, 51\, 51)\; font-family: sans-serif\, Arial\, Verdana\, " trebuchet="">\n	<li><span style="font-size:14px\;">Name listing as Sponsor in program</span></li>\n</ul>\n<strong font-size:="" style="color: rgb(51\, 51\, 51)\; font-family: sans-serif\, Arial\, Verdana\, " trebuchet=""><span style="font-size: 14px\;"><u font-size:="" trebuchet="">$1\,500 Closest to the Pin Sponsor&nbsp\;</u></span></strong>\n\n<ul font-size:="" style="padding: 0px 40px\; color: rgb(51\, 51\, 51)\; font-family: sans-serif\, Arial\, Verdana\, " trebuchet="">\n	<li><span style="font-size: 14px\;">Name listing as Sponsor in program</span></li>\n</ul>\n<strong font-size:="" style="color: rgb(51\, 51\, 51)\; font-family: sans-serif\, Arial\, Verdana\, " trebuchet=""><span style="font-size: 14px\;"><u font-size:="" trebuchet="">$1\,000 Ball Sponsor&nbsp\;</u></span></strong>\n\n<ul font-size:="" style="padding: 0px 40px\; color: rgb(51\, 51\, 51)\; font-family: sans-serif\, Arial\, Verdana\, " trebuchet="">\n	<li><span style="font-size: 14px\;">Name listing as Sponsor in program</span></li>\n</ul>\n<strong><span style="font-size:14px\;"><u font-size:="" style="color: rgb(51\, 51\, 51)\; font-family: sans-serif\, Arial\, Verdana\, " trebuchet="">$1\,250 Birdie Sponsor</u></span></strong>\n\n<ul font-size:="" style="padding: 0px 40px\; color: rgb(51\, 51\, 51)\; font-family: sans-serif\, Arial\, Verdana\, " trebuchet="">\n	<li><span style="font-size:14px\;">1 (one) foursome playing in tournament</span></li>\n	<li><span style="font-size:14px\;">Name listing as Sponsor in program</span></li>\n	<li><span style="font-size:14px\;">Tee sponsor</span></li>\n</ul>\n<strong><span style="font-size:14px\;"> <u font-size:="" style="color: rgb(51\, 51\, 51)\; font-family: sans-serif\, Arial\, Verdana\, " trebuchet="">$500 Tent Sponsorship</u></span></strong>\n\n<ul font-size:="" style="padding: 0px 40px\; color: rgb(51\, 51\, 51)\; font-family: sans-serif\, Arial\, Verdana\, " trebuchet="">\n	<li><span style="font-size:14px\;">Bring your tent and promotional items to promote your business on course</span></li>\n</ul>\n<strong><span style="font-size:14px\;"> <u font-size:="" style="color: rgb(51\, 51\, 51)\; font-family: sans-serif\, Arial\, Verdana\, " trebuchet="">$250 Individual Player Package</u></span></strong>\n\n<ul font-size:="" style="padding: 0px 40px\; color: rgb(51\, 51\, 51)\; font-family: sans-serif\, Arial\, Verdana\, " trebuchet="">\n	<li><span style="font-size:14px\;">Single player entry</span></li>\n	<li><span style="font-size:14px\;">Player Packages include Box Lunch\; Awards Dinner\; Goodie Bag\; Beverages on Course\, etc</span></li>\n</ul>\n\n<p><strong><span style="font-size:14px\;"><u font-size:="" style="color: rgb(51\, 51\, 51)\; font-family: sans-serif\, Arial\, Verdana\, " trebuchet="">$100 Tee Sponsor</u><span background-color:="" style="color: rgb(51\, 51\, 51)\; font-family: sans-serif\, Arial\, Verdana\, " trebuchet="">&nbsp\;</span></span></strong></p>\n\n<p><span style="font-size:14px\;">Excluding&nbsp\;1st&nbsp\;and&nbsp\;10th&nbsp\;tee</span><br />\n&nbsp\;</p>\n\n<hr />\n<p style="text-align: center\;"><span style="font-size:14px\;"><span style="font-size:16px\;"><u><strong>Raffle Tickets</strong></u><br />\n<br />\n<strong>United Airlines Tickets&nbsp\;</strong><br />\n(2) Coach Class cabin tickets valid in US 48\, Alaska\, Canada\, Caribbean\, Mexico and Central America.<br />\nPackage valued at $1\,300.00<br />\n(Term and conditions may apply)<br />\n<br />\n<strong>YETI Cooler</strong><br />\nAlways have ice cold drinks with the Yeti Tundra 45&nbsp\;cooler that holds 28&nbsp\;cans. Guaranteed to never leak!!!<br />\nPackage valued at $350.00<br />\n<span style="color:#696969\;"><span style="font-size:14px\;"><em>Donated by Gateway Ace Hardware</em></span></span><br />\n<br />\n<strong>Seaside Vacation</strong><br />\nHome Weekend Stay<br />\nTwo Day - Getaway in Seaside\, TX<br />\nTwo night stay in a two bedroom condo that sleeps 4-5. Close to beach\, restaurants and fun!!!<br />\nDates are mutually agreed upon.</span></span><br />\n<br />\n<br />\n<strong><span style="font-size: 16px\;">1 Raffle Ticket $5.00</span></strong><br />\n<span style="font-size:16px\;"><strong>5 Raffle Tickets $20.00<br />\n15 Raffle Tickets $50.00<br />\n35 Raffle&nbsp\;Tickets $100.00<br />\nTiger/Mulligan $30.00 each or $50.00 for both<br />\n<a href="https://eecochouston.chambermaster.com/eventregistration/register/5069037">Buy Now</a></strong></span></p>\n
LOCATION:Northgate Country Club 17110 Northgate Forest Dr. Houston\, TX 77068 (281) 444-5302
UID:e.2026.5069037
SEQUENCE:3
DTSTAMP:20260425T162803Z
URL:http://houstoneastend.smartcms.site/events/details/2018-scholarship-golf-tournament-5069037
END:VEVENT

END:VCALENDAR
