BEGIN:VCALENDAR
VERSION:2.0
PRODID:-//ChamberMaster//Event Calendar 2.0//EN
METHOD:PUBLISH
X-PUBLISHED-TTL:P3D
REFRESH-INTERVAL:P3D
CALSCALE:GREGORIAN
BEGIN:VEVENT
DTSTART:20180517T130000Z
DTEND:20180517T183000Z
X-MICROSOFT-CDO-ALLDAYEVENT:FALSE
SUMMARY:2018 Education Symposium: Building an Effective Workforce
DESCRIPTION:Breakfast Keynote Speaker: Paula Harris\, Global Director Social Responsibility Programming\, Schlumberger\n\n\n\nBreakout Sessions:\n\nFORUM A & B 9:00 AM to 10:30 AM\n\n\nFORUM A \n\nAdvancing Careers in Marketing through Transmedia\n\n\n\nPANELIST\n\nJerry Waite\, Ed.D.\n\nProfessor of Technology\, Digital Media Program Coordinator\, College of Technology\, University of Houston\n\nPhil Snyder\, MFA\n\nInstructional Assistant Professor of Digital Media Production\, Program Coordinator\, College of Technology\, University of Houston\n\nMelody Hollis\n\nLearning Manager\, HCSS\, UH Alumni\n\nElvira Orozco\n\nLarge Format and Fulfillment Manager\,  Chas. P. Young Co. - An RR Donnelley Company\, UH Alumni\, Milby Graduate\n\nFaith Pineda\n\nFounder\, MUDDGRIP Productions\, LLC. & MuddGripGraphics.com\, UH Alumni\n\nModerator:\n\nMichelle Hundley\n\nFounder & CEO\, Stratus Public Relations\, LLC\n\nExhibit: Green Screen Animation with Shasta\n\n\n\nFORUM B \n\nDisruptive Technologies in Supply Chain: Implications for Workforce\n\n\n\nPANELIST\n\nLiang-Chieh (Victor) Cheng\, Ph.D. \n\nAssociate Professor\, Supply Chain & Logistics Technology\, MS SCLT Program Coordinator\, College of Technology - University of Houston\n\nDustin Hebrank\n\nChief Financial Officer\, Gulf Winds International\n\nCynthia Garza\n\nDean\, Logistics Center of Excellence Houston Community College\n\nMary Henderson\, Ph.D.\n\nInstructional Assistant Professor\, Supply Chain & Logistic Technology\,\n\nCollege of Technology - University of Houston\n\nCharles Montgomery\n\nVice President\, Executive Council\, International Longshoremen's Organization (ILA)\n\nJake Swanson\, MBA\n\nGlobal Head\, EPC Project Sector\, DHL Global Forwarding   Industrial Projects\, UH Alumni\n\nDerek S. Townsend\, Sr.\n\nCentral Regional Manager\, Control Technologies\, Inc.\n\nModerator:\n\nJohn Vogt\, Ph.D.\n\nVisiting Professor\, University of Houston-Downtown\, VP Global Logistics\, Haliburton (Retired)\, President\, WWBC\, LLC\n\n \n\n\n\n\n\nFORUM C & D 10:45 AM to 12:15 PM\n\n\nFORUM C \n\nConstruction 2.0: Faster\, Better and Safer\, Through Innovation\n\n\n\nPANELIST\n\nLingguang Song\, Ph.D.\n\nChair\, Construction Management Department\, College of Technology - University of Houston\n\nTim Martin\n\nConstruction Management Services\, ConocoPhillips\n\nIra Samm\n\nEPC Value Integration Lead Office of the Chief Innovation Officer\, Bechtel\n\nCollin Tsui\n\nManager Performance Solutions\, Construction and Fabrication Group\, Fluor\n\nKris Asper\, P.E.\n\nDean\, Construction Center of Excellence\, Houston Community College\n\nJonathan Greene\, MS\n\nFaculty Construction Management Technology\, San Jacinto College\n\nModerator:\n\nScott Vlasek\,\n\nBIM Coordinator\, Marek Brothers Systems\n\nExhibit:\n\nKyungki Kim\, Ph.D.\n\nAssistant Professor Construction Management\, College of Technology\, University of Houston\, Augmented Reality for Construction Management: Project schedule visualization and safety training\n\n\n\n\n\nFORUM D \n\nCyber Security: Adapting our Education and Workforce Pathways\n\n\n\nPANELIST\n\nChris Bronk\, Ph.D.\n\nAssistant Professor\, Computer Information Systems and\, Information System Security\, College of Technology\, University of Houston          \n\nJason Rorie\n\nFounder\, Elevated Technologies \n\nAndrew Van Chau\n\nFounder\, Quo Vadis Strategies\, INFRAGARD Houston Member\n\nJim Meeks\n\nFaculty\, Computer Information Technology\, San Jacinto College\n\nChris Martin\, MBA\n\nBusiness Relationship Manager\, Workforce Training\, Texas State Technical College\, UH Alumni\n\nModerator:\n\nMargaret Kidd\, MA\, SCPro \, CPE \n\nInstructional Assistant Professor\, Supply Chain & Logistics Technology\, College of Technology\, University of Houston\n\n \n\nLunch Speaker: Juan Sanchez Munoz\, President\, University of Houston-Downtown\n\n\n\nPlatinum Partner: $5\,000\n\n Logo recognition on event web page for 1 year\n\n Promotion in all event e-newsletters\n\n Recognition in all print materials\n\n Full Page Ad (5" x 8") in program\n\n Premium table of 8 for breakfast & lunch\n\n Recognition on table centerpieces\n\n Premium EXPO table\n\n Verbal recognition through the entire event\n\n Logo on event board at the event\n\n Recognition in rolling PowerPoint\n\n Optional host of VIP reception\n\n\n\nGold Partner: $2\,500\n\n Logo recognition on event web page for 1 year\n\n Promotion in all event e-newsletters\n\n Recognition in all print materials\n\n Half page ad (5" x 3.875") in program\n\n Premium table of 8 for breakfast & lunch\n\n Recognition on table centerpieces\n\n EXPO Table\n\n\n\nSilver Partner: $650\n\n Name recognition on event web page for 1 year\n\n Promotion in all event e-newsletters\n\n Recognition in all print materials\n\n Quarter page ad (2.375 x 3.875") in program\n\n Table of 8 for breakfast & lunch\n\n\n\nTable of 8: $520\n\n\n\nExpo Booth: $150\n\n Members only\n\n Includes one meal ticket for breakfast & lunch\n\nIndividual Ticket Nonmember: $75\n\nIndividual Ticket Member: $65\n\nSponsor a Teacher/Student: $55\n\n\n\nIf you would like to become a sponsor for the event click HERE to download a sponsorship form.
X-ALT-DESC;FMTTYPE=text/html:<div helvetica="" segoe="" style="color: rgb(21\, 27\, 38)\; font-family: -apple-system\, BlinkMacSystemFont\, " white-space:="">\n<div helvetica="" segoe="" style="font-size: 13px\; color: rgb(21\, 27\, 38)\;" white-space:=""><span style="font-size: 14px\;"><span style="font-family: arial\;"><em><strong>Breakfast Keynote Speaker: Paula Harris\, Global Director Social Responsibility Programming\, Schlumberger</strong></em><br helvetica="" segoe="" style="font-family: -apple-system\, BlinkMacSystemFont\, " />\n<br />\nBreakout Sessions:</span></span></div>\n\n<div helvetica="" segoe="" style="font-size: 13px\; color: rgb(21\, 27\, 38)\;" white-space:=""><span style="font-size: 14px\;"><span style="font-family: arial\;"><b style="margin: 0px\; padding: 0px\; border: 0px\; font-family: inherit\; vertical-align: baseline\;">FORUM A &amp\; B 9:00 AM to 10:30 AM</b></span></span></div>\n\n<div helvetica="" segoe="" style="color: rgb(21\, 27\, 38)\;" white-space:="">\n<div style="font-size: 13px\;"><span style="font-size: 14px\;"><span style="font-family: arial\;"><strong>FORUM A&nbsp\;</strong><br />\nAdvancing Careers in Marketing through Transmedia<br />\n<br />\nPANELIST<br />\n<strong>Jerry Waite\, Ed.D.</strong><br />\nProfessor of Technology\, Digital Media Program Coordinator\, College of Technology\, University of Houston<br />\n<strong>Phil Snyder\, MFA</strong><br />\nInstructional Assistant Professor of Digital Media Production\, Program Coordinator\, College of Technology\, University of Houston<br />\n<strong>Melody Hollis</strong><br />\nLearning Manager\, HCSS\,&nbsp\;UH Alumni</span></span><br />\n<span style="font-size: 14px\;"><span style="font-family: arial\;"><strong>Elvira Orozco</strong><br />\nLarge Format and Fulfillment Manager\,&nbsp\; Chas.&nbsp\;P. Young Co. - An RR Donnelley Company\, UH Alumni\, Milby Graduate</span></span><br />\n<span style="font-size: 14px\;"><span style="font-family: arial\;"><strong>Faith Pineda</strong><br />\nFounder\,&nbsp\;MUDDGRIP Productions\, LLC. &amp\; MuddGripGraphics.com\,&nbsp\;UH Alumni</span></span><br />\n<span style="font-size: 14px\;"><span style="font-family: arial\;"><strong>Moderator:</strong><br />\n<strong>Michelle Hundley</strong><br />\nFounder &amp\; CEO\, Stratus Public Relations\, LLC<br />\n<strong>Exhibit:</strong> Green Screen Animation with Shasta<br />\n<br />\n<strong>FORUM B&nbsp\;</strong><br />\nDisruptive Technologies in Supply Chain: Implications for Workforce<br />\n<br />\nPANELIST<br />\n<strong>Liang-Chieh (Victor) Cheng\, Ph.D.&nbsp\;</strong><br />\nAssociate Professor\, Supply Chain &amp\; Logistics Technology\, MS SCLT Program Coordinator\, College of Technology - University of Houston<br />\n<strong>Dustin Hebrank</strong><br />\nChief Financial Officer\, Gulf Winds International<br />\n<strong>Cynthia Garza</strong><br />\nDean\, Logistics Center of Excellence Houston Community College<br />\n<strong>Mary Henderson\, Ph.D.</strong><br />\nInstructional Assistant Professor\, Supply Chain &amp\; Logistic Technology\,<br />\nCollege of Technology - University of Houston<br />\n<strong>Charles Montgomery</strong><br />\nVice President\, Executive Council\, International Longshoremen&rsquo\;s Organization (ILA)</span></span></div>\n\n<div style=""><span style="font-size: 14px\;"><span style="font-family: arial\;"><b style="margin: 0px\; padding: 0px\; border: 0px\; font-family: inherit\; vertical-align: baseline\;">Jake Swanson\, MBA</b><br />\nGlobal Head\, EPC Project Sector\, DHL Global Forwarding &ndash\; Industrial Projects\, UH Alumni<br />\n<strong>Derek S. Townsend\, Sr.</strong><br />\nCentral Regional Manager\, Control Technologies\, Inc.<br />\n<strong>Moderator:<br />\nJohn Vogt\, Ph.D.</strong><br />\nVisiting Professor\, University of Houston-Downtown\, VP Global Logistics\, Haliburton (Retired)\, President\, WWBC\, LLC</span></span><br />\n&nbsp\;</div>\n\n<div style="font-size: 13px\;"><br />\n<br />\n<span style="font-size: 14px\;"><span style="font-family: arial\;"><b style="margin: 0px\; padding: 0px\; border: 0px\; font-family: inherit\; vertical-align: baseline\;">FORUM C &amp\; D 10:45 AM to 12:15 PM</b></span></span></div>\n</div>\n\n<div helvetica="" segoe="" style="font-size: 13px\; color: rgb(21\, 27\, 38)\;" white-space:=""><span style="font-size: 14px\;"><span style="font-family: arial\;"><strong>FORUM C&nbsp\;</strong><br />\nConstruction 2.0: Faster\, Better and Safer\, Through Innovation<br />\n<br />\nPANELIST<br />\n<strong>Lingguang Song\, Ph.D.</strong><br />\nChair\, Construction Management Department\, College of Technology - University of Houston<br />\n<strong>Tim Martin</strong><br />\nConstruction Management Services\, ConocoPhillips<br />\n<strong>Ira Samm</strong><br />\nEPC Value Integration Lead Office of the Chief Innovation Officer\, Bechtel<br />\n<strong>Collin Tsui</strong><br />\nManager Performance Solutions\, Construction and Fabrication Group\, Fluor<br />\n<strong>Kris Asper\, P.E.</strong><br />\nDean\, Construction Center of Excellence\, Houston Community College<br />\n<strong>Jonathan Greene\, MS</strong><br />\nFaculty Construction Management Technology\, San Jacinto College<br />\n<strong>Moderator:</strong><br />\n<strong>Scott Vlasek</strong>\,<br />\nBIM Coordinator\, Marek Brothers Systems<br />\n<strong>Exhibit:</strong><br />\n<strong>Kyungki Kim\, Ph.D.</strong></span></span><br />\n<span style="font-size:14px\;"><span style="font-family:arial\;">Assistant Professor Construction Management\, College of Technology\, University of Houston\, Augmented Reality for Construction Management: Project schedule visualization and safety training</span></span></div>\n\n<div helvetica="" segoe="" style="font-size: 13px\; color: rgb(21\, 27\, 38)\;" white-space:=""><br />\n<br />\n<span style="font-size: 14px\;"><span style="font-family: arial\;"><strong>FORUM D&nbsp\;</strong><br />\nCyber Security: Adapting our Education and Workforce Pathways<br />\n<br />\nPANELIST<br />\n<strong>Chris Bronk\, Ph.D.</strong><br />\nAssistant Professor\, Computer Information Systems and\, Information System Security\, College of Technology\, University of Houston&nbsp\; &nbsp\; &nbsp\; &nbsp\; &nbsp\;&nbsp\;<br />\n<strong>Jason Rorie</strong><br />\nFounder\, Elevated Technologies&nbsp\;<br />\n<strong>Andrew Van Chau</strong><br />\nFounder\, Quo Vadis Strategies\, INFRAGARD Houston Member<br />\n<strong>Jim Meeks</strong><br />\nFaculty\, Computer Information Technology\, San Jacinto College<br />\n<strong>Chris Martin\, MBA</strong><br />\nBusiness Relationship Manager\, Workforce Training\, Texas State Technical College\, UH Alumni<br />\n<strong>Moderator:</strong><br />\n<strong>Margaret Kidd</strong>\, MA\, SCPro&trade\;\, CPE&trade\;<br />\nInstructional Assistant Professor\, Supply Chain &amp\; Logistics Technology\, College of Technology\, University of Houston<br />\n&#8203\;<br />\n<strong>Lunch Speaker: Juan Sanchez Munoz\, President\, University of Houston-Downtown</strong><br />\n<br />\n<strong>Platinum Partner: $5\,000</strong></span></span></div>\n\n<div font-size:="" style="color: rgb(51\, 51\, 51)\;" trebuchet=""><span style="font-size: 14px\;"><span style="font-family: arial\;">&bull\;Logo recognition on event web page for 1 year<br />\n&bull\;Promotion in all event e-newsletters<br />\n&bull\;Recognition in all print materials<br />\n&bull\;Full Page Ad (5&rdquo\; x 8&rdquo\;) in program<br />\n&bull\;Premium table of 8 for breakfast &amp\; lunch<br />\n&bull\;Recognition on table centerpieces<br />\n&bull\;Premium EXPO table<br />\n&bull\;Verbal recognition through the entire event<br />\n&bull\;Logo on event board at the event<br />\n&bull\;Recognition in rolling PowerPoint<br />\n&bull\;Optional host of VIP reception<br />\n<br />\n<strong>Gold Partner: $2\,500</strong><br />\n&bull\;Logo recognition on event web page for 1 year<br />\n&bull\;Promotion in all event e-newsletters<br />\n&bull\;Recognition in all print materials<br />\n&bull\;Half page ad (5&rdquo\; x 3.875&rdquo\;) in program<br />\n&bull\;Premium table of 8 for breakfast &amp\; lunch<br />\n&bull\;Recognition on table centerpieces<br />\n&bull\;EXPO Table<br />\n<br />\n<strong>Silver Partner: $650</strong><br />\n&bull\;Name recognition on event web page for 1 year<br />\n&bull\;Promotion in all event e-newsletters<br />\n&bull\;Recognition in all print materials<br />\n&bull\;Quarter page ad (2.375 x 3.875&rdquo\;) in program<br />\n&bull\;Table of 8 for breakfast &amp\; lunch<br />\n<br />\n<strong>Table of 8: $520<br />\n<br />\nExpo Booth: $150</strong><br />\n&bull\;Members only<br />\n&bull\;Includes one meal ticket for breakfast &amp\; lunch</span></span></div>\n\n<div font-size:="" style="color: rgb(51\, 51\, 51)\;" trebuchet=""><span style="font-size: 14px\;"><span style="font-family: arial\;"><strong>Individual Ticket Nonmember: $75<br />\nIndividual Ticket Member: $65<br />\nSponsor a Teacher/Student: $55</strong><br />\n<br />\n<strong>If you would like to become a sponsor for the event click&nbsp\;<u><a href="https://chambermaster.blob.core.windows.net/userfiles/UserFiles/chambers/2026/File/2018EducationSymposiumFlyer.pdf" style="color: rgb(7\, 130\, 193)\;">HERE</a></u>&nbsp\;to download a sponsorship form.</strong></span></span></div>\n</div>\n
LOCATION:The Federal Reserve Bank 1801 Allen Parkway Houston\, TX 77019
UID:e.2026.5069040
SEQUENCE:3
DTSTAMP:20260425T125726Z
URL:http://houstoneastend.smartcms.site/events/details/2018-education-symposium-building-an-effective-workforce-5069040
END:VEVENT

END:VCALENDAR
