BEGIN:VCALENDAR
VERSION:2.0
PRODID:-//ChamberMaster//Event Calendar 2.0//EN
METHOD:PUBLISH
X-PUBLISHED-TTL:P3D
REFRESH-INTERVAL:P3D
CALSCALE:GREGORIAN
BEGIN:VEVENT
DTSTART:20210308T170000Z
DTEND:20210309T000000Z
X-MICROSOFT-CDO-ALLDAYEVENT:FALSE
SUMMARY:18th Annual Divots for Devereux Golf Classic
DESCRIPTION:On March 5\, Devereux Advanced Behavioral Health Texas is hosting its 18th Annual Divots for Devereux Golf Classic presented by Lexus of Clear Lake at Wildcat Golf Club. All proceeds from the Golf Tournament benefit the Devereux School and scholarship program   enriching the lives of the children in our care. COVID safety measures will practiced and maintained throughout the day.
X-ALT-DESC;FMTTYPE=text/html:On March 5\, Devereux Advanced Behavioral Health Texas is hosting its 18th Annual Divots for Devereux Golf Classic presented by Lexus of Clear Lake at Wildcat Golf Club. All proceeds from the Golf Tournament benefit the Devereux School and scholarship program &ndash\; enriching the lives of the children in our care. COVID safety measures will practiced and maintained throughout the day.
LOCATION:Wildcat Golf Club
UID:e.2026.5072270
SEQUENCE:3
DTSTAMP:20260423T030532Z
URL:http://houstoneastend.smartcms.site/events/details/18th-annual-divots-for-devereux-golf-classic-5072270
END:VEVENT

END:VCALENDAR
